BEGIN:VCALENDAR
VERSION:2.0
PRODID:-//The Headliners Club - ECPv6.15.20//NONSGML v1.0//EN
CALSCALE:GREGORIAN
METHOD:PUBLISH
X-ORIGINAL-URL:https://theheadlinersclub.com
X-WR-CALDESC:Events for The Headliners Club
REFRESH-INTERVAL;VALUE=DURATION:PT1H
X-Robots-Tag:noindex
X-PUBLISHED-TTL:PT1H
BEGIN:VTIMEZONE
TZID:UTC
BEGIN:STANDARD
TZOFFSETFROM:+0000
TZOFFSETTO:+0000
TZNAME:UTC
DTSTART:20250101T000000
END:STANDARD
END:VTIMEZONE
BEGIN:VEVENT
DTSTART;TZID=UTC:20260425T200000
DTEND;TZID=UTC:20260425T200000
DTSTAMP:20260422T050651
CREATED:20260122T215629Z
LAST-MODIFIED:20260417T165642Z
UID:10001365-1777147200-1777147200@theheadlinersclub.com
SUMMARY:Grand Royale [Beastie Boys tribute] • Schwing!
DESCRIPTION:ROAD TO HAREFEST CONCERT! A pair of 3-day Harefest tickets will be given away before the last band. \n21 & Over | $20 Advance / $25 Day Of | Grand Royale – Beastie Boys tribute is one of the most visually & sonically captivating acts on the scene. Three MC’s (MCAin’t\, Mike Double D and BADRock) backed by a four-piece band & DJ (The White Castle Combo) performing tracks spanning the Beasties entire catalog (even THE MIX-UP instrumentals!) with Beasties antics galore. \nSchwing is a 90s tribute band whose high-energy performances transport listeners back to a time when alternative music ruled the airwaves. \n– – – – \nGET TICKETS\nReserved Seating Available
URL:https://theheadlinersclub.com/event/grand-royale-042526/
LOCATION:The Headliners Club\, 17880 SW McEwan Road\, Lake Oswego\, OR\, 97035
ATTACH;FMTTYPE=image/jpeg:https://theheadlinersclub.com/wp-content/uploads/2026/01/26-0425-HEADLINERS-grand-roy-FB-Cover.webp
END:VEVENT
END:VCALENDAR