BEGIN:VCALENDAR
VERSION:2.0
PRODID:-//The Headliners Club - ECPv6.15.20//NONSGML v1.0//EN
CALSCALE:GREGORIAN
METHOD:PUBLISH
X-WR-CALNAME:The Headliners Club
X-ORIGINAL-URL:https://theheadlinersclub.com
X-WR-CALDESC:Events for The Headliners Club
REFRESH-INTERVAL;VALUE=DURATION:PT1H
X-Robots-Tag:noindex
X-PUBLISHED-TTL:PT1H
BEGIN:VTIMEZONE
TZID:UTC
BEGIN:STANDARD
TZOFFSETFROM:+0000
TZOFFSETTO:+0000
TZNAME:UTC
DTSTART:20250101T000000
END:STANDARD
END:VTIMEZONE
BEGIN:VEVENT
DTSTART;TZID=UTC:20260509T160000
DTEND;TZID=UTC:20260509T200000
DTSTAMP:20260420T123423
CREATED:20260417T170204Z
LAST-MODIFIED:20260419T212400Z
UID:10001667-1778342400-1778356800@theheadlinersclub.com
SUMMARY:The Innocent Men [Billy Joel] - 4pm All Ages Matinee Concert!
DESCRIPTION:ROAD TO HAREFEST CONCERT! A pair of 3-day Harefest tickets will be given away before the last band. \nAll Ages Welcome | $20 Advance\, $25 Day Of Show | Innocent Men [Billy Joel tribute] is a Portland-based group that brings energetic renditions of the piano-driven anthems & heartfelt ballads to life. With authentic charisma\, tight harmonies\, and a passion that mirrors Joel’s own\, they deliver fan favorites like “Piano Man\,” “Just the Way You Are\,” and more in vibrant live performances that will keep you singing along. \n – – – –\nGET TICKETS\nreserved seats available
URL:https://theheadlinersclub.com/event/innocent-men-050926/
LOCATION:The Headliners Club\, 17880 SW McEwan Road\, Lake Oswego\, OR\, 97035
ATTACH;FMTTYPE=image/jpeg:https://theheadlinersclub.com/wp-content/uploads/2026/04/26-0509-HEADLINERS-innocent-FB-Cover.webp
END:VEVENT
BEGIN:VEVENT
DTSTART;TZID=UTC:20260509T200000
DTEND;TZID=UTC:20260509T200000
DTSTAMP:20260420T123423
CREATED:20260209T170700Z
LAST-MODIFIED:20260209T170700Z
UID:10001369-1778356800-1778356800@theheadlinersclub.com
SUMMARY:AC/DC Night! Thunderstruck vs The DC
DESCRIPTION:21 & Over | $20 Advance / $25 Day Of | This night is all about the Bad Boys from Down Under and features two bands that capture the two eras of the legendary AC/DC. \nThunderstuck brings the bigger\, louder\, more anthemic Brian Johnson era to life\, focusing on the thunderous\, bulletproof rock ’n’ roll with fists in the air sound of post-1980 AC/DC.\n\nThe DC’s joyously wallow into the dangerous\, sleazy\, punk-adjacent rock ’n’ roll that leaned hard into sex\, booze\, rebellion\, and street-level swagger.\nBringing these two bands together on the same night guarantees the ultimate AC/DC experience\n– – – – \nGET TICKETS\nReserved Seating Available
URL:https://theheadlinersclub.com/event/acdc-050926/
LOCATION:The Headliners Club\, 17880 SW McEwan Road\, Lake Oswego\, OR\, 97035
ATTACH;FMTTYPE=image/jpeg:https://theheadlinersclub.com/wp-content/uploads/2026/02/26-0509-HEADLINERS-thunder-FB-Cover.webp
END:VEVENT
END:VCALENDAR