BEGIN:VCALENDAR
VERSION:2.0
PRODID:-//The Headliners Club - ECPv6.15.20//NONSGML v1.0//EN
CALSCALE:GREGORIAN
METHOD:PUBLISH
X-WR-CALNAME:The Headliners Club
X-ORIGINAL-URL:https://theheadlinersclub.com
X-WR-CALDESC:Events for The Headliners Club
REFRESH-INTERVAL;VALUE=DURATION:PT1H
X-Robots-Tag:noindex
X-PUBLISHED-TTL:PT1H
BEGIN:VTIMEZONE
TZID:UTC
BEGIN:STANDARD
TZOFFSETFROM:+0000
TZOFFSETTO:+0000
TZNAME:UTC
DTSTART:20250101T000000
END:STANDARD
END:VTIMEZONE
BEGIN:VEVENT
DTSTART;TZID=UTC:20260605T200000
DTEND;TZID=UTC:20260605T200000
DTSTAMP:20260421T014515
CREATED:20260421T010758Z
LAST-MODIFIED:20260421T010758Z
UID:10001669-1780689600-1780689600@theheadlinersclub.com
SUMMARY:Pokerface [Lady Gaga tribute] • Y2K
DESCRIPTION:21 & Over | $20 Advance / $25 Day Of | Poker Face is a tribute to the Mother Monster\, featuring live music and choreographed dance. This experience includes thematic costumes and professionally sung live vocals to bring as much of the brilliance & authenticity of Gaga’s full performances to the stage as possible. \nY2K grooves chart-topping 2000’s hits from legends like Ludacris\, Baby Bash\, Britney Spears\, Usher\, Snoop Dog\, E-40\, Linkin Park\, Christina Aguilera\, Amy Winehouse\, Lady Gaga\, and many more! A nostalgic trip back to Y2K complete with track suits\, flip phones\, and *Mean Girls* spirit.\n– – – – \nGET TICKETS\nReserved Seating Available
URL:https://theheadlinersclub.com/event/pokerface-060526/
LOCATION:The Headliners Club\, 17880 SW McEwan Road\, Lake Oswego\, OR\, 97035
ATTACH;FMTTYPE=image/jpeg:https://theheadlinersclub.com/wp-content/uploads/2026/04/26-0605-HEADLINERS-pokerface-FB-Cover.webp
END:VEVENT
END:VCALENDAR