BEGIN:VCALENDAR
VERSION:2.0
PRODID:-//The Headliners Club - ECPv6.15.20//NONSGML v1.0//EN
CALSCALE:GREGORIAN
METHOD:PUBLISH
X-WR-CALNAME:The Headliners Club
X-ORIGINAL-URL:https://theheadlinersclub.com
X-WR-CALDESC:Events for The Headliners Club
REFRESH-INTERVAL;VALUE=DURATION:PT1H
X-Robots-Tag:noindex
X-PUBLISHED-TTL:PT1H
BEGIN:VTIMEZONE
TZID:UTC
BEGIN:STANDARD
TZOFFSETFROM:+0000
TZOFFSETTO:+0000
TZNAME:UTC
DTSTART:20250101T000000
END:STANDARD
END:VTIMEZONE
BEGIN:VEVENT
DTSTART;TZID=UTC:20260612T200000
DTEND;TZID=UTC:20260612T200000
DTSTAMP:20260421T101525
CREATED:20260421T015930Z
LAST-MODIFIED:20260421T015930Z
UID:10001672-1781294400-1781294400@theheadlinersclub.com
SUMMARY:Taken By The Sky
DESCRIPTION:21 & Over | $20 Advance / $25 Day Of | Taken By The Sky – Fleetwood Mac tribute captures audiences with their authentic performance of the iconic band at the height of their career\, representing the music known & loved by millions. The 6-piece Portland band has amassed fans at each performance with their gorgeous harmonies\, impeccable musicianship and captivating stage show. \n– – – – \nGET TICKETS\nReserved Seating Available
URL:https://theheadlinersclub.com/event/taken-by-the-sky-061226/
LOCATION:The Headliners Club\, 17880 SW McEwan Road\, Lake Oswego\, OR\, 97035
ATTACH;FMTTYPE=image/jpeg:https://theheadlinersclub.com/wp-content/uploads/2026/04/26-0612-HEADLINERS-taken-FB-Cover.webp
END:VEVENT
BEGIN:VEVENT
DTSTART;TZID=UTC:20260613T160000
DTEND;TZID=UTC:20260613T160000
DTSTAMP:20260421T101525
CREATED:20260421T020346Z
LAST-MODIFIED:20260421T020346Z
UID:10001673-1781366400-1781366400@theheadlinersclub.com
SUMMARY:Shoot To Thrill [AC⚡DC tribute] - 4pm all ages matinee
DESCRIPTION:All Ages | $20 Advance/$25 Day Of | Shoot To Thrill – AC/DC tribute is Portland’s “balls-to-the-wall” tribute to the Australian legends\, bringing the anthemic riffs\, shouts\, and antics to the stage with pure passion. Hail hail to the good times\, ‘cause rock has got the right of way when Shoot To Thrill grabs your earholes. \n– – – \nGET TICKETS\nReserved Seating Available
URL:https://theheadlinersclub.com/event/shoot-to-thrill-061326/
LOCATION:The Headliners Club\, 17880 SW McEwan Road\, Lake Oswego\, OR\, 97035
ATTACH;FMTTYPE=image/jpeg:https://theheadlinersclub.com/wp-content/uploads/2026/04/26-0613-HEADLINERS-shoot-FB-Cover.webp
END:VEVENT
BEGIN:VEVENT
DTSTART;TZID=UTC:20260613T200000
DTEND;TZID=UTC:20260613T200000
DTSTAMP:20260421T101525
CREATED:20260421T014459Z
LAST-MODIFIED:20260421T014459Z
UID:10001671-1781380800-1781380800@theheadlinersclub.com
SUMMARY:The Yachtsmen
DESCRIPTION:21 & Over | $20 Advance / $25 Day Of | The Yachtsmen are cruise directors ushering you back to a time when men wore their hair long\, their shirts open and their shoes comfortable whilst sailing into a sun-filled seascape in search of smooth rockin’ good times. \n– – – – \nGET TICKETS\nReserved Seating Available
URL:https://theheadlinersclub.com/event/yachtsmen-061326/
LOCATION:The Headliners Club\, 17880 SW McEwan Road\, Lake Oswego\, OR\, 97035
ATTACH;FMTTYPE=image/jpeg:https://theheadlinersclub.com/wp-content/uploads/2026/04/26-0613-HEADLINERS-yachtsmen-FB-Cover.webp
END:VEVENT
BEGIN:VEVENT
DTSTART;TZID=UTC:20260619T200000
DTEND;TZID=UTC:20260619T200000
DTSTAMP:20260421T101525
CREATED:20260421T020640Z
LAST-MODIFIED:20260421T020640Z
UID:10001674-1781899200-1781899200@theheadlinersclub.com
SUMMARY:Dancehall Days
DESCRIPTION:21 & Over | $20 Advance/ $25 Day of Show | Dancehall Days pairs standout musicianship with a wildly diverse\, era-spanning setlist. From ’70s classic rock and ’80s pop anthems to ’90s hip-hop and R&B\, they light up every stage they hit. Their resume includes performances at Fleetwood’s On Front Street in Maui\, The Troubadour in London\, The Old Joint Stock Theatre in Birmingham\, the One & Only Ocean Club in Nassau\, the San Francisco Ritz-Carlton\, and even Austin City Limits.  – – – – \nGET TICKETS\nreserved seating available
URL:https://theheadlinersclub.com/event/dancehall-days-061926/
LOCATION:The Headliners Club\, 17880 SW McEwan Road\, Lake Oswego\, OR\, 97035
ATTACH;FMTTYPE=image/jpeg:https://theheadlinersclub.com/wp-content/uploads/2026/04/26-0619-HEADLINERS-dancehall-days-FB-Cover.webp
END:VEVENT
BEGIN:VEVENT
DTSTART;TZID=UTC:20260620T200000
DTEND;TZID=UTC:20260620T200000
DTSTAMP:20260421T101525
CREATED:20260421T141536Z
LAST-MODIFIED:20260421T141655Z
UID:10001675-1781985600-1781985600@theheadlinersclub.com
SUMMARY:Eagle Eyes [Eagles tribute]
DESCRIPTION:ROAD TO HAREFEST CONCERT! A pair of 3-day Harefest tickets will be given away before the last set. \n21 & Over | $30 Day Of Show | Eagle Eyes – Eagles tribute is ‘THE’ tribute to the legendary California country rock band. Audiences are mesmerized by this group of Vancouver\, B.C. musicians’ precise vocal harmonies & service to the smallest of details in performing songs spanning the extensive Eagles’ Rock N’ Roll Hall of Fame Career (including a few Joe Walsh selections). \n– – – – – \nTICKETS\nreserved seating available
URL:https://theheadlinersclub.com/event/eagle-eyes-062026/
LOCATION:The Headliners Club\, 17880 SW McEwan Road\, Lake Oswego\, OR\, 97035
ATTACH;FMTTYPE=image/jpeg:https://theheadlinersclub.com/wp-content/uploads/2026/04/26-0620-HEADLINERS-eagle-eyes-FB-Cover.webp
END:VEVENT
END:VCALENDAR