BEGIN:VCALENDAR
VERSION:2.0
PRODID:-//The Headliners Club - ECPv6.15.20//NONSGML v1.0//EN
CALSCALE:GREGORIAN
METHOD:PUBLISH
X-WR-CALNAME:The Headliners Club
X-ORIGINAL-URL:https://theheadlinersclub.com
X-WR-CALDESC:Events for The Headliners Club
REFRESH-INTERVAL;VALUE=DURATION:PT1H
X-Robots-Tag:noindex
X-PUBLISHED-TTL:PT1H
BEGIN:VTIMEZONE
TZID:UTC
BEGIN:STANDARD
TZOFFSETFROM:+0000
TZOFFSETTO:+0000
TZNAME:UTC
DTSTART:20240101T000000
END:STANDARD
END:VTIMEZONE
BEGIN:VEVENT
DTSTART;TZID=UTC:20251205T200000
DTEND;TZID=UTC:20251205T200000
DTSTAMP:20260423T173739
CREATED:20250920T235335Z
LAST-MODIFIED:20250927T165507Z
UID:10000982-1764964800-1764964800@theheadlinersclub.com
SUMMARY:Hit Machine
DESCRIPTION:21 & Over | $15 Advance/ $20 Day of Show | Hit Machine plays hits from all eras; it’s not uncommon to hear Stayin’ Alive (Bee Gees)\, Kiss (Prince)\, Dynamite (Taio Cruz)\, You Shook Me All Night Long (AC/DC) all in the same set. Fronted by the dynamic Bart Hafeman\, the energy projected from this group is WILD! – – – – \nGET TICKETS\nreserved seating available
URL:https://theheadlinersclub.com/event/hit-machine-120525/
LOCATION:The Headliners Club\, 17880 SW McEwan Road\, Lake Oswego\, OR\, 97035
ATTACH;FMTTYPE=image/jpeg:https://theheadlinersclub.com/wp-content/uploads/2025/09/25-1205-HEADLINERS-hit-machine-FB-Cover.webp
END:VEVENT
BEGIN:VEVENT
DTSTART;TZID=UTC:20251213T200000
DTEND;TZID=UTC:20251213T200000
DTSTAMP:20260423T173739
CREATED:20250921T001811Z
LAST-MODIFIED:20251202T190428Z
UID:10000985-1765656000-1765656000@theheadlinersclub.com
SUMMARY:Eddie Martinez & Friends
DESCRIPTION:21 & Over | $30 Advance/ $40 Day of Show | Eddie Martinez’ discography reads like a who’s who of Rock Royalty as well as the soundtrack of the past 30+ years. His credits include performing/recording with Robert Palmer\, Mick Jagger\, Rod Stewart\, David Lee Roth\, Steve Winwood\, Stanley Clarke\, Lenny White\, Yoko Ono\, Celine Dion\, Chaka Khan\, Tina Turner\, Nona Hendryx\, RUN DMC and Meat Loaf among the highlights. Eddie has been a part of that eclectic Rock History. \nSpecial guests joining Mr. Martinez: \n\nCarmine Rojas\, bass (David Bowie\, Rod Stewart and Julian Lennon)\nTal Bergman\, drums (Billy Idol\, Joe Bonamassa\, Hans Zimmer)\nThomas Claxton\, vocals\nThe Soul Vaccination Horns and more!\n\n – – – –\nTICKETS\nreserved seating available
URL:https://theheadlinersclub.com/event/eddie-martinez-121325/
LOCATION:The Headliners Club\, 17880 SW McEwan Road\, Lake Oswego\, OR\, 97035
ATTACH;FMTTYPE=image/jpeg:https://theheadlinersclub.com/wp-content/uploads/2025/09/25-1213-HEADLINERS-eddie-FB-Cover.webp
END:VEVENT
BEGIN:VEVENT
DTSTART;TZID=UTC:20251219T200000
DTEND;TZID=UTC:20251219T200000
DTSTAMP:20260423T173739
CREATED:20250921T002020Z
LAST-MODIFIED:20251109T223638Z
UID:10000986-1766174400-1766174400@theheadlinersclub.com
SUMMARY:Dancehall Days Holi-Daze
DESCRIPTION:21 & OVER | $20 Advance / $25 DAY OF SHOW | Dancehall Days pairs standout musicianship with a wildly diverse\, era-spanning setlist. From ’70s classic rock and ’80s pop anthems to ’90s hip-hop and R&B\, they light up every stage they hit. Their resume includes performances at Fleetwood’s On Front Street and Charley’s in Maui\, The Troubadour in London\, The Old Joint Stock Theatre in Birmingham\, the One & Only Ocean Club in Nassau\, the San Francisco Ritz-Carlton\, and even Austin City Limits. If you’re looking for a band that brings the party wherever they go\, this is it. \n– – – – \nGET TICKETS\nReserved Seats Available
URL:https://theheadlinersclub.com/event/dancehall-days-121925/
LOCATION:The Headliners Club\, 17880 SW McEwan Road\, Lake Oswego\, OR\, 97035
ATTACH;FMTTYPE=image/jpeg:https://theheadlinersclub.com/wp-content/uploads/2025/09/25-1219-HEADLINERS-dhd-FB-Cover.webp
END:VEVENT
BEGIN:VEVENT
DTSTART;TZID=UTC:20251226T200000
DTEND;TZID=UTC:20251226T200000
DTSTAMP:20260423T173739
CREATED:20250921T002559Z
LAST-MODIFIED:20250927T172036Z
UID:10000988-1766779200-1766779200@theheadlinersclub.com
SUMMARY:JFK
DESCRIPTION:21 & Over | $15 Advance\, $20 Day Of Show |  JFK offers a HUGE variety of great 70’s\, 80’s and 90’s Classic FM Rock. \n– – – – \nGET TICKETS\nReserved Seating Available
URL:https://theheadlinersclub.com/event/jfk-122625/
LOCATION:The Headliners Club\, 17880 SW McEwan Road\, Lake Oswego\, OR\, 97035
ATTACH;FMTTYPE=image/jpeg:https://theheadlinersclub.com/wp-content/uploads/2025/09/25-1226-HEADLINERS-jfk-FB-Cover.webp
END:VEVENT
END:VCALENDAR