BEGIN:VCALENDAR
VERSION:2.0
PRODID:-//The Headliners Club - ECPv6.15.20//NONSGML v1.0//EN
CALSCALE:GREGORIAN
METHOD:PUBLISH
X-WR-CALNAME:The Headliners Club
X-ORIGINAL-URL:https://theheadlinersclub.com
X-WR-CALDESC:Events for The Headliners Club
REFRESH-INTERVAL;VALUE=DURATION:PT1H
X-Robots-Tag:noindex
X-PUBLISHED-TTL:PT1H
BEGIN:VTIMEZONE
TZID:UTC
BEGIN:STANDARD
TZOFFSETFROM:+0000
TZOFFSETTO:+0000
TZNAME:UTC
DTSTART:20250101T000000
END:STANDARD
END:VTIMEZONE
BEGIN:VEVENT
DTSTART;TZID=UTC:20260206T200000
DTEND;TZID=UTC:20260206T200000
DTSTAMP:20260420T233821
CREATED:20251125T011149Z
LAST-MODIFIED:20251125T011149Z
UID:10001328-1770408000-1770408000@theheadlinersclub.com
SUMMARY:Dancehall Days
DESCRIPTION:21 & OVER | $15 Advance / $20 DAY OF SHOW | Dancehall Days pairs standout musicianship with a wildly diverse\, era-spanning setlist. From ’70s classic rock and ’80s pop anthems to ’90s hip-hop and R&B\, they light up every stage they hit. Their resume includes performances at Fleetwood’s On Front Street and Charley’s in Maui\, The Troubadour in London\, The Old Joint Stock Theatre in Birmingham\, the One & Only Ocean Club in Nassau\, the San Francisco Ritz-Carlton\, and even Austin City Limits. If you’re looking for a band that brings the party wherever they go\, this is it. \n– – – – \nGET TICKETS\nReserved Seats Available
URL:https://theheadlinersclub.com/event/dancehall-days-020626/
LOCATION:The Headliners Club\, 17880 SW McEwan Road\, Lake Oswego\, OR\, 97035
ATTACH;FMTTYPE=image/jpeg:https://theheadlinersclub.com/wp-content/uploads/2025/11/26-0206-HEADLINERS-dhd-FB-Cover.webp
END:VEVENT
BEGIN:VEVENT
DTSTART;TZID=UTC:20260207T160000
DTEND;TZID=UTC:20260207T180000
DTSTAMP:20260420T233821
CREATED:20251125T012019Z
LAST-MODIFIED:20260201T190846Z
UID:10001329-1770480000-1770487200@theheadlinersclub.com
SUMMARY:13 'Til Midnight [Taylor Swift tribute] - 4pm All Ages Matinee Concert
DESCRIPTION:All Ages | $15 Advance/ $20 Day of Show | 13 Til Midnight – Taylor Swift tribute takes you on a journey through all Taylor’s eras\, including the greatest hits\, deep cuts and fan favorites. Expect an unforgettable live performance that will leave you singing and dancing all night long. \n– – – – – \nGET TICKETS\nreserved seating available \nALSO: 8pm 21 & over show! Click for details
URL:https://theheadlinersclub.com/event/13-til-midnight-matinee-020726/
LOCATION:The Headliners Club\, 17880 SW McEwan Road\, Lake Oswego\, OR\, 97035
ATTACH;FMTTYPE=image/jpeg:https://theheadlinersclub.com/wp-content/uploads/2025/11/26-0207-HEADLINERS-13-til-matinee-FB-Cover.webp
END:VEVENT
BEGIN:VEVENT
DTSTART;TZID=UTC:20260207T200000
DTEND;TZID=UTC:20260207T200000
DTSTAMP:20260420T233821
CREATED:20251205T162349Z
LAST-MODIFIED:20260201T190741Z
UID:10001337-1770494400-1770494400@theheadlinersclub.com
SUMMARY:13 'Til Midnight [Taylor Swift tribute]
DESCRIPTION:21 & Over | $20 Advance/ $25 Day of Show | 13 Til Midnight – Taylor Swift tribute takes you on a journey through all Taylor’s eras\, including the greatest hits\, deep cuts and fan favorites. Expect an unforgettable live performance that will leave you singing and dancing all night long. \n– – – – – \nGET TICKETS\nreserved seating available \nAlso: 4pm all ages show! Click for info
URL:https://theheadlinersclub.com/event/13-til-midnight-020726/
LOCATION:The Headliners Club\, 17880 SW McEwan Road\, Lake Oswego\, OR\, 97035
ATTACH;FMTTYPE=image/jpeg:https://theheadlinersclub.com/wp-content/uploads/2025/11/26-0207-HEADLINERS-13-til-FB-Cover.webp
END:VEVENT
BEGIN:VEVENT
DTSTART;TZID=UTC:20260213T200000
DTEND;TZID=UTC:20260213T200000
DTSTAMP:20260420T233821
CREATED:20251125T013550Z
LAST-MODIFIED:20251125T013550Z
UID:10001330-1771012800-1771012800@theheadlinersclub.com
SUMMARY:TRIBU2 [U2 tribute] • Louder Than Moz [The Smiths]
DESCRIPTION:21 & Over | $20 Advance/$25 Day of Show | TRIBU2 – U2 tribute pays homage to one of the greatest bands of all time\, including tracks from the early BOY days right up through their more recent releases. TRIBU2 showcases the vast catalog in a performance that recalls Bono’s passion & energy\, The Edge’s unique guitar style\, and a band that has captivated audiences for decades.  \nLouder Than Moz – The Smiths tribute faithfully recreates the timeless MTV 120 Minutes gems recorded by Morrisey\, Marr and company.  \n– – – – – \nGET TICKETS\nReserved Seating Available
URL:https://theheadlinersclub.com/event/tribu2-021326/
LOCATION:The Headliners Club\, 17880 SW McEwan Road\, Lake Oswego\, OR\, 97035
ATTACH;FMTTYPE=image/jpeg:https://theheadlinersclub.com/wp-content/uploads/2025/11/26-0213-HEADLINERS-tribu2-FB-Cover.webp
END:VEVENT
BEGIN:VEVENT
DTSTART;TZID=UTC:20260227T200000
DTEND;TZID=UTC:20260227T200000
DTSTAMP:20260420T233821
CREATED:20260212T220029Z
LAST-MODIFIED:20260212T220029Z
UID:10001334-1772222400-1772222400@theheadlinersclub.com
SUMMARY:Radical Revolution [Awesome 80s Party]
DESCRIPTION:21 & Over | $15 Advance\, $20 Day Of Show | Radical Revolution is a 6-piece 80’s tribute band packing a huge variety of 80’s hits (Whitney Houston\, Rick Springfield\, Madonna\, A-Ha\, Def Leppard\, Go-Go’s\, Kenny Loggins\, Erasure\, and WAY more!). The band features both female and male lead vocals\, fat keyboards\, blistering guitars\, thumping bass\, and big 80’s drums to keep everyone dancing from start to finish! \n– – – – \nGET TICKETS\nReserved seats available
URL:https://theheadlinersclub.com/event/radical-revolution-022726/
LOCATION:The Headliners Club\, 17880 SW McEwan Road\, Lake Oswego\, OR\, 97035
ATTACH;FMTTYPE=image/jpeg:https://theheadlinersclub.com/wp-content/uploads/2025/11/26-0227-HEADLINERS-rad-rev-FB-Cover.webp
END:VEVENT
END:VCALENDAR