BEGIN:VCALENDAR
VERSION:2.0
PRODID:-//The Headliners Club - ECPv6.15.20//NONSGML v1.0//EN
CALSCALE:GREGORIAN
METHOD:PUBLISH
X-ORIGINAL-URL:https://theheadlinersclub.com
X-WR-CALDESC:Events for The Headliners Club
REFRESH-INTERVAL;VALUE=DURATION:PT1H
X-Robots-Tag:noindex
X-PUBLISHED-TTL:PT1H
BEGIN:VTIMEZONE
TZID:UTC
BEGIN:STANDARD
TZOFFSETFROM:+0000
TZOFFSETTO:+0000
TZNAME:UTC
DTSTART:20230101T000000
END:STANDARD
END:VTIMEZONE
BEGIN:VEVENT
DTSTART;TZID=UTC:20240428T130000
DTEND;TZID=UTC:20240428T200000
DTSTAMP:20260423T033325
CREATED:20240425T072622Z
LAST-MODIFIED:20240429T010826Z
UID:10000029-1714309200-1714334400@theheadlinersclub.com
SUMMARY:The Gary Fountaine Celebration of Life
DESCRIPTION:Let’s celebrate the life of Gary Fountaine\, talented bassist\, steadfast friend\,  devoted father & grandpa\, and  loving brother. Gary touched the lives of all who knew him with his music\, his kindness\, and his love. We plan to honor his spirit by sharing memories\, laughter\, and the music he so deeply loved. We look forward to celebrating Gary’s life and legacy together with you. If you were part of Gary’s inner circle of friends & musicians\, you’re invited to join us for the celebration of life at 1pm.\n\nPerforming in honor of Gary will be: \n\n5 Guys Named Moe\nThe Norman Sylvester Band featuring Mel Brown\nSumo Band: Brian Harris\, Chuck Barber\, Glen Hoover\, Rich Lawrence\, and Ben Jones\nNico Wind Cordova\nArietta Ward\nThe Chris Baum Project with special guests: Lewis Livermore\, Paul Mazzio\, Tim Bryson\, Pete Peterson\, Margaret Linn\, Will Barber\, Mike Doolin\, and others.\n\nThe general public is welcome to attend an impromptu Music Circe Jam hosted by Jim Hardin from 6 to 8 PM. \nDress Code: Please wear your favorite black outfit in honor of Gary’s signature black suit! Feel free to share this information.\n\nIf you’d like to make a donation to help support Gary’s family\, please visit this GoFundMe campaign.
URL:https://theheadlinersclub.com/event/gary-fountaine-042824/
LOCATION:The Headliners Club\, 17880 SW McEwan Road\, Lake Oswego\, OR\, 97035
END:VEVENT
END:VCALENDAR