BEGIN:VCALENDAR
VERSION:2.0
PRODID:-//The Headliners Club - ECPv6.15.20//NONSGML v1.0//EN
CALSCALE:GREGORIAN
METHOD:PUBLISH
X-ORIGINAL-URL:https://theheadlinersclub.com
X-WR-CALDESC:Events for The Headliners Club
REFRESH-INTERVAL;VALUE=DURATION:PT1H
X-Robots-Tag:noindex
X-PUBLISHED-TTL:PT1H
BEGIN:VTIMEZONE
TZID:America/Los_Angeles
BEGIN:DAYLIGHT
TZOFFSETFROM:-0800
TZOFFSETTO:-0700
TZNAME:PDT
DTSTART:20250309T100000
END:DAYLIGHT
BEGIN:STANDARD
TZOFFSETFROM:-0700
TZOFFSETTO:-0800
TZNAME:PST
DTSTART:20251102T090000
END:STANDARD
BEGIN:DAYLIGHT
TZOFFSETFROM:-0800
TZOFFSETTO:-0700
TZNAME:PDT
DTSTART:20260308T100000
END:DAYLIGHT
BEGIN:STANDARD
TZOFFSETFROM:-0700
TZOFFSETTO:-0800
TZNAME:PST
DTSTART:20261101T090000
END:STANDARD
BEGIN:DAYLIGHT
TZOFFSETFROM:-0800
TZOFFSETTO:-0700
TZNAME:PDT
DTSTART:20270314T100000
END:DAYLIGHT
BEGIN:STANDARD
TZOFFSETFROM:-0700
TZOFFSETTO:-0800
TZNAME:PST
DTSTART:20271107T090000
END:STANDARD
END:VTIMEZONE
BEGIN:VEVENT
DTSTART;TZID=America/Los_Angeles:20260204T190000
DTEND;TZID=America/Los_Angeles:20260204T220000
DTSTAMP:20260421T113651
CREATED:20251011T010006Z
LAST-MODIFIED:20260211T172022Z
UID:10001011-1770231600-1770242400@theheadlinersclub.com
SUMMARY:Headliners Karaoke Wednesdays!
DESCRIPTION:Stop in\, grab the mic\, and take the stage! Join us each week to express your emotions through the majesty of song.\nFREE Admission! 21 & Over
URL:https://theheadlinersclub.com/event/headliners-karaoke-3-2-2/2026-02-04/
LOCATION:The Headliners Club\, 17880 SW McEwan Road\, Lake Oswego\, OR\, 97035
CATEGORIES:weekly
ATTACH;FMTTYPE=image/jpeg:https://theheadlinersclub.com/wp-content/uploads/2025/04/karaoke-alt-Cover.webp
END:VEVENT
BEGIN:VEVENT
DTSTART;TZID=America/Los_Angeles:20260211T190000
DTEND;TZID=America/Los_Angeles:20260211T220000
DTSTAMP:20260421T113651
CREATED:20260211T172032Z
LAST-MODIFIED:20260211T172033Z
UID:10001012-1770836400-1770847200@theheadlinersclub.com
SUMMARY:Headliners Karaoke Wednesdays!
DESCRIPTION:Stop in\, grab the mic\, and take the stage! Join us each week to express your emotions through the majesty of song.\nFREE Admission! 21 & Over
URL:https://theheadlinersclub.com/event/headliners-karaoke-3-2-2-2/2026-02-11/
LOCATION:The Headliners Club\, 17880 SW McEwan Road\, Lake Oswego\, OR\, 97035
CATEGORIES:weekly
ATTACH;FMTTYPE=image/jpeg:https://theheadlinersclub.com/wp-content/uploads/2025/04/karaoke-alt-Cover.webp
END:VEVENT
BEGIN:VEVENT
DTSTART;TZID=America/Los_Angeles:20260218T190000
DTEND;TZID=America/Los_Angeles:20260218T220000
DTSTAMP:20260421T113651
CREATED:20260211T172032Z
LAST-MODIFIED:20260211T172033Z
UID:10001013-1771441200-1771452000@theheadlinersclub.com
SUMMARY:Headliners Karaoke Wednesdays!
DESCRIPTION:Stop in\, grab the mic\, and take the stage! Join us each week to express your emotions through the majesty of song.\nFREE Admission! 21 & Over
URL:https://theheadlinersclub.com/event/headliners-karaoke-3-2-2-2/2026-02-18/
LOCATION:The Headliners Club\, 17880 SW McEwan Road\, Lake Oswego\, OR\, 97035
CATEGORIES:weekly
ATTACH;FMTTYPE=image/jpeg:https://theheadlinersclub.com/wp-content/uploads/2025/04/karaoke-alt-Cover.webp
END:VEVENT
BEGIN:VEVENT
DTSTART;TZID=America/Los_Angeles:20260225T190000
DTEND;TZID=America/Los_Angeles:20260225T220000
DTSTAMP:20260421T113651
CREATED:20260211T172032Z
LAST-MODIFIED:20260211T172033Z
UID:10001014-1772046000-1772056800@theheadlinersclub.com
SUMMARY:Headliners Karaoke Wednesdays!
DESCRIPTION:Stop in\, grab the mic\, and take the stage! Join us each week to express your emotions through the majesty of song.\nFREE Admission! 21 & Over
URL:https://theheadlinersclub.com/event/headliners-karaoke-3-2-2-2/2026-02-25/
LOCATION:The Headliners Club\, 17880 SW McEwan Road\, Lake Oswego\, OR\, 97035
CATEGORIES:weekly
ATTACH;FMTTYPE=image/jpeg:https://theheadlinersclub.com/wp-content/uploads/2025/04/karaoke-alt-Cover.webp
END:VEVENT
END:VCALENDAR