BEGIN:VCALENDAR
VERSION:2.0
PRODID:-//The Headliners Club - ECPv6.15.20//NONSGML v1.0//EN
CALSCALE:GREGORIAN
METHOD:PUBLISH
X-ORIGINAL-URL:https://theheadlinersclub.com
X-WR-CALDESC:Events for The Headliners Club
REFRESH-INTERVAL;VALUE=DURATION:PT1H
X-Robots-Tag:noindex
X-PUBLISHED-TTL:PT1H
BEGIN:VTIMEZONE
TZID:UTC
BEGIN:STANDARD
TZOFFSETFROM:+0000
TZOFFSETTO:+0000
TZNAME:UTC
DTSTART:20250101T000000
END:STANDARD
END:VTIMEZONE
BEGIN:VEVENT
DTSTART;TZID=UTC:20260307T200000
DTEND;TZID=UTC:20260307T200000
DTSTAMP:20260422T034540
CREATED:20251211T002242Z
LAST-MODIFIED:20251211T002242Z
UID:10001340-1772913600-1772913600@theheadlinersclub.com
SUMMARY:Ants In The Kitchen
DESCRIPTION:21 & OVER | $15 Advance / $20 DAY OF SHOW | Ants In The Kitchen is an 8-piece group (including one of the baddest horn sections in the land) of accomplished Portland\, Oregon musicians performing high-energy Rock\, Soul\, Blues\, and Funk covers…from Tina Turner to Beastie Boys to AC/DC to Bruno Mars!  \n– – – – \nGET TICKETS\nreserved seats available
URL:https://theheadlinersclub.com/event/ants-in-the-kitchen-030726/
LOCATION:The Headliners Club\, 17880 SW McEwan Road\, Lake Oswego\, OR\, 97035
ATTACH;FMTTYPE=image/jpeg:https://theheadlinersclub.com/wp-content/uploads/2025/12/26-0307-HEADLINERS-ants-FB-Cover-1.webp
END:VEVENT
END:VCALENDAR