BEGIN:VCALENDAR
VERSION:2.0
PRODID:-//The Headliners Club - ECPv6.15.20//NONSGML v1.0//EN
CALSCALE:GREGORIAN
METHOD:PUBLISH
X-ORIGINAL-URL:https://theheadlinersclub.com
X-WR-CALDESC:Events for The Headliners Club
REFRESH-INTERVAL;VALUE=DURATION:PT1H
X-Robots-Tag:noindex
X-PUBLISHED-TTL:PT1H
BEGIN:VTIMEZONE
TZID:America/Los_Angeles
BEGIN:DAYLIGHT
TZOFFSETFROM:-0800
TZOFFSETTO:-0700
TZNAME:PDT
DTSTART:20240310T100000
END:DAYLIGHT
BEGIN:STANDARD
TZOFFSETFROM:-0700
TZOFFSETTO:-0800
TZNAME:PST
DTSTART:20241103T090000
END:STANDARD
BEGIN:DAYLIGHT
TZOFFSETFROM:-0800
TZOFFSETTO:-0700
TZNAME:PDT
DTSTART:20250309T100000
END:DAYLIGHT
BEGIN:STANDARD
TZOFFSETFROM:-0700
TZOFFSETTO:-0800
TZNAME:PST
DTSTART:20251102T090000
END:STANDARD
BEGIN:DAYLIGHT
TZOFFSETFROM:-0800
TZOFFSETTO:-0700
TZNAME:PDT
DTSTART:20260308T100000
END:DAYLIGHT
BEGIN:STANDARD
TZOFFSETFROM:-0700
TZOFFSETTO:-0800
TZNAME:PST
DTSTART:20261101T090000
END:STANDARD
END:VTIMEZONE
BEGIN:VTIMEZONE
TZID:UTC
BEGIN:STANDARD
TZOFFSETFROM:+0000
TZOFFSETTO:+0000
TZNAME:UTC
DTSTART:20240101T000000
END:STANDARD
END:VTIMEZONE
BEGIN:VEVENT
DTSTART;TZID=America/Los_Angeles:20250723T190000
DTEND;TZID=America/Los_Angeles:20250723T210000
DTSTAMP:20260424T041857
CREATED:20250402T030155Z
LAST-MODIFIED:20250402T030226Z
UID:10000383-1753297200-1753304400@theheadlinersclub.com
SUMMARY:Headliners Karaoke Wednesdays!
DESCRIPTION:Stop in\, grab the mic\, and take the stage! Join us each week to express your emotions through the majesty of song.\nFREE Admission! 21 & Over
URL:https://theheadlinersclub.com/event/headliners-karaoke-3/2025-07-23/
LOCATION:The Headliners Club\, 17880 SW McEwan Road\, Lake Oswego\, OR\, 97035
ATTACH;FMTTYPE=image/jpeg:https://theheadlinersclub.com/wp-content/uploads/2024/12/karaoke-Cover.webp
END:VEVENT
BEGIN:VEVENT
DTSTART;TZID=America/Los_Angeles:20250724T190000
DTEND;TZID=America/Los_Angeles:20250724T210000
DTSTAMP:20260424T041857
CREATED:20250623T161232Z
LAST-MODIFIED:20251011T011922Z
UID:10000686-1753383600-1753390800@theheadlinersclub.com
SUMMARY:Cornhole Thursdays
DESCRIPTION:Our Thursday cornhole nights are open to the public! Each week\, a 4-game round robin tournament and single elimination bracket play. The last Thursday of the month\, winners receive The Headliners Club gift cards\, concert tickets and more! No need to bring a team; your teammate changes each round!\n\nCompete while enjoying some incredible cocktails and tasty food! www.theheadlinersclub.com/menu\nRegistration at the door (doors open at 4pm). Let the bags fly!
URL:https://theheadlinersclub.com/event/cornhole-league/2025-07-24/
LOCATION:The Headliners Club\, 17880 SW McEwan Road\, Lake Oswego\, OR\, 97035
CATEGORIES:weekly
ATTACH;FMTTYPE=image/jpeg:https://theheadlinersclub.com/wp-content/uploads/2025/06/thc-cornhole-Cover.webp
END:VEVENT
BEGIN:VEVENT
DTSTART;TZID=UTC:20250725T200000
DTEND;TZID=UTC:20250725T200000
DTSTAMP:20260424T041857
CREATED:20250425T194708Z
LAST-MODIFIED:20250527T015251Z
UID:10000666-1753473600-1753473600@theheadlinersclub.com
SUMMARY:Lucky Town [Bruce Springsteen tribute] & The Soul Vax Horns + Steve Wilkinson & The Lunar Samples
DESCRIPTION:21 & Over | $20 Advance\, $25 Day Of Show | Lucky Town – Bruce Springsteen tribute hits the stage to perform high energy shows worthy of The Boss\, with hits from every decade of Bruce’s Rock Hall Of Fame career. This ensemble of seasoned Northwest musicians will have you on your feet and singing along all night! \nSteve Wilkinson & The Lunar Samples features the Portland music scene vet with a group that blends raw feeling with musical nuance\, capturing the unpredictability of life while anchored in melody and texture. \n– – – – \nGET TICKETS\nreserved seats available
URL:https://theheadlinersclub.com/event/lucky-town-072525/
LOCATION:The Headliners Club\, 17880 SW McEwan Road\, Lake Oswego\, OR\, 97035
ATTACH;FMTTYPE=image/jpeg:https://theheadlinersclub.com/wp-content/uploads/2025/04/25-0725-HEADLINERS-lucky-town-FB-Cover.webp
END:VEVENT
BEGIN:VEVENT
DTSTART;TZID=UTC:20250726T200000
DTEND;TZID=UTC:20250726T200000
DTSTAMP:20260424T041857
CREATED:20250505T211657Z
LAST-MODIFIED:20250514T004359Z
UID:10000674-1753560000-1753560000@theheadlinersclub.com
SUMMARY:Jukebox Heroes [Foreigner tribute] • Dream Police [Cheap Trick]
DESCRIPTION:21 & Over | $20 Advance\, $25 Day Of Show | Jukebox Heroes – Foreigner tribute delivers the iconic 70s & 80s hits\, from the guitar-and-saxophone laden rock of their early years to the keyboard-centric hits of the mid/late-80’s. Charismatic NW performer Rich Ray (Ramble On\, Superunknown) tackles the near-impossible task of imitating one of the most powerful and distinctive vocalists in rock history.  \nDream Police – Cheap Trick tribute is a Portland\, OR outfit delivering high-energy performances packed with the iconic hooks\, harmonies\, and rock ‘n’ roll spirit of the legendary group. With spot-on musicianship and an electrifying stage presence\, they bring classics like “Surrender”\, “I Want You to Want Me”\, and “Dream Police” to life. Whether you’re a lifelong fan or discovering Cheap Trick for the first time\, Dream Police guarantees an unforgettable night of power-pop perfection! \n– – – – \nGET TICKETS\nreserved seats available
URL:https://theheadlinersclub.com/event/dream-police-072625/
LOCATION:The Headliners Club\, 17880 SW McEwan Road\, Lake Oswego\, OR\, 97035
ATTACH;FMTTYPE=image/jpeg:https://theheadlinersclub.com/wp-content/uploads/2025/05/25-0726-HEADLINERS-jbh-FB-Cover.webp
END:VEVENT
END:VCALENDAR