BEGIN:VCALENDAR
VERSION:2.0
PRODID:-//The Headliners Club - ECPv6.15.20//NONSGML v1.0//EN
CALSCALE:GREGORIAN
METHOD:PUBLISH
X-ORIGINAL-URL:https://theheadlinersclub.com
X-WR-CALDESC:Events for The Headliners Club
REFRESH-INTERVAL;VALUE=DURATION:PT1H
X-Robots-Tag:noindex
X-PUBLISHED-TTL:PT1H
BEGIN:VTIMEZONE
TZID:America/Los_Angeles
BEGIN:DAYLIGHT
TZOFFSETFROM:-0800
TZOFFSETTO:-0700
TZNAME:PDT
DTSTART:20240310T100000
END:DAYLIGHT
BEGIN:STANDARD
TZOFFSETFROM:-0700
TZOFFSETTO:-0800
TZNAME:PST
DTSTART:20241103T090000
END:STANDARD
BEGIN:DAYLIGHT
TZOFFSETFROM:-0800
TZOFFSETTO:-0700
TZNAME:PDT
DTSTART:20250309T100000
END:DAYLIGHT
BEGIN:STANDARD
TZOFFSETFROM:-0700
TZOFFSETTO:-0800
TZNAME:PST
DTSTART:20251102T090000
END:STANDARD
BEGIN:DAYLIGHT
TZOFFSETFROM:-0800
TZOFFSETTO:-0700
TZNAME:PDT
DTSTART:20260308T100000
END:DAYLIGHT
BEGIN:STANDARD
TZOFFSETFROM:-0700
TZOFFSETTO:-0800
TZNAME:PST
DTSTART:20261101T090000
END:STANDARD
END:VTIMEZONE
BEGIN:VTIMEZONE
TZID:UTC
BEGIN:STANDARD
TZOFFSETFROM:+0000
TZOFFSETTO:+0000
TZNAME:UTC
DTSTART:20240101T000000
END:STANDARD
END:VTIMEZONE
BEGIN:VEVENT
DTSTART;TZID=America/Los_Angeles:20250730T190000
DTEND;TZID=America/Los_Angeles:20250730T210000
DTSTAMP:20260420T041919
CREATED:20250402T030155Z
LAST-MODIFIED:20250402T030226Z
UID:10000384-1753902000-1753909200@theheadlinersclub.com
SUMMARY:Headliners Karaoke Wednesdays!
DESCRIPTION:Stop in\, grab the mic\, and take the stage! Join us each week to express your emotions through the majesty of song.\nFREE Admission! 21 & Over
URL:https://theheadlinersclub.com/event/headliners-karaoke-3/2025-07-30/
LOCATION:The Headliners Club\, 17880 SW McEwan Road\, Lake Oswego\, OR\, 97035
ATTACH;FMTTYPE=image/jpeg:https://theheadlinersclub.com/wp-content/uploads/2024/12/karaoke-Cover.webp
END:VEVENT
BEGIN:VEVENT
DTSTART;TZID=America/Los_Angeles:20250731T190000
DTEND;TZID=America/Los_Angeles:20250731T210000
DTSTAMP:20260420T041919
CREATED:20250623T161232Z
LAST-MODIFIED:20251011T011922Z
UID:10000687-1753988400-1753995600@theheadlinersclub.com
SUMMARY:Cornhole Thursdays
DESCRIPTION:Our Thursday cornhole nights are open to the public! Each week\, a 4-game round robin tournament and single elimination bracket play. The last Thursday of the month\, winners receive The Headliners Club gift cards\, concert tickets and more! No need to bring a team; your teammate changes each round!\n\nCompete while enjoying some incredible cocktails and tasty food! www.theheadlinersclub.com/menu\nRegistration at the door (doors open at 4pm). Let the bags fly!
URL:https://theheadlinersclub.com/event/cornhole-league/2025-07-31/
LOCATION:The Headliners Club\, 17880 SW McEwan Road\, Lake Oswego\, OR\, 97035
CATEGORIES:weekly
ATTACH;FMTTYPE=image/jpeg:https://theheadlinersclub.com/wp-content/uploads/2025/06/thc-cornhole-Cover.webp
END:VEVENT
BEGIN:VEVENT
DTSTART;TZID=UTC:20250801T200000
DTEND;TZID=UTC:20250801T200000
DTSTAMP:20260420T041919
CREATED:20250607T173857Z
LAST-MODIFIED:20250623T021159Z
UID:10000676-1754078400-1754078400@theheadlinersclub.com
SUMMARY:Jar Of Lies [Alice In Chains] • Parabola [Tool] • Plush [Stone Temple Pilots]
DESCRIPTION:21 & Over | $20 Advance\, $25 Day Of Show | Jar of Lies – Alice In Chains tribute has been grinding authentic sonic dirt into the faces of AIC fans since 2009\, all the crushing riffs and haunting vocal harmonies of the real thing.   \nParabola – A Tribute to Tool is a NW-based tribute dedicated to the herculean task of performing studio-perfect performances of the iconic alt metal heroes. \nPlush – Stone Temple Pilots tribute brings it all. Bullhorns\, boas\, guitars…just part of the formula for re-creating the sights & sounds of grunge icons. They deliver a high-energy performance\, complete with the unique lead vocals\, guitar tones\, lush vocal harmonies and intense rhythms that catapulted Stone Temple Pilots to alternative rock royalty.  \n– – – – \nGET TICKETS\nreserved seats available
URL:https://theheadlinersclub.com/event/jar-of-lies-080125/
LOCATION:The Headliners Club\, 17880 SW McEwan Road\, Lake Oswego\, OR\, 97035
ATTACH;FMTTYPE=image/jpeg:https://theheadlinersclub.com/wp-content/uploads/2025/04/25-0801-HEADLINERS-jar-par-plu-FB-Cover.webp
END:VEVENT
BEGIN:VEVENT
DTSTART;TZID=UTC:20250802T200000
DTEND;TZID=UTC:20250802T200000
DTSTAMP:20260420T041919
CREATED:20250425T195251Z
LAST-MODIFIED:20250802T210527Z
UID:10000667-1754164800-1754164800@theheadlinersclub.com
SUMMARY:Sabbath Live [Black Sabbath tribute] • Tacos In Hell
DESCRIPTION:21 & Over | $15 Advance\, $20 Day Of Show | Sabbath Live – Black Sabbath tribute is a powerful SW Washington group delivering the raw energy and iconic sound of the metal legends. Featuring Tim Tugg (Crazy Train – Ozzy tribute) and Al Silviera (Jar Of Lies – Alice In Chains tribute)\, the band unites veteran talent from the tribute scene. With thunderous riffs and haunting vocals\, Sabbath Live brings an authentic and unforgettable Sabbath experience to every stage. \nTacos In Hell returns with a new line-up! Join Tim Taylor\, Craig Montoya\, Rudy Hedges\, and Dan Bates for their first show back. You’re gonna dance\, you’re gonna rock out\, and you’re gonna cry. It’s gonna be a hell of a good show. \n– – – – \nGET TICKETS\nreserved seats available
URL:https://theheadlinersclub.com/event/sabbath-live-080225/
LOCATION:The Headliners Club\, 17880 SW McEwan Road\, Lake Oswego\, OR\, 97035
ATTACH;FMTTYPE=image/jpeg:https://theheadlinersclub.com/wp-content/uploads/2025/04/25-0802-HEADLINERS-sabbath-FB-Cover.webp
END:VEVENT
END:VCALENDAR