BEGIN:VCALENDAR
VERSION:2.0
PRODID:-//The Headliners Club - ECPv6.15.20//NONSGML v1.0//EN
CALSCALE:GREGORIAN
METHOD:PUBLISH
X-ORIGINAL-URL:https://theheadlinersclub.com
X-WR-CALDESC:Events for The Headliners Club
REFRESH-INTERVAL;VALUE=DURATION:PT1H
X-Robots-Tag:noindex
X-PUBLISHED-TTL:PT1H
BEGIN:VTIMEZONE
TZID:America/Los_Angeles
BEGIN:DAYLIGHT
TZOFFSETFROM:-0800
TZOFFSETTO:-0700
TZNAME:PDT
DTSTART:20240310T100000
END:DAYLIGHT
BEGIN:STANDARD
TZOFFSETFROM:-0700
TZOFFSETTO:-0800
TZNAME:PST
DTSTART:20241103T090000
END:STANDARD
BEGIN:DAYLIGHT
TZOFFSETFROM:-0800
TZOFFSETTO:-0700
TZNAME:PDT
DTSTART:20250309T100000
END:DAYLIGHT
BEGIN:STANDARD
TZOFFSETFROM:-0700
TZOFFSETTO:-0800
TZNAME:PST
DTSTART:20251102T090000
END:STANDARD
BEGIN:DAYLIGHT
TZOFFSETFROM:-0800
TZOFFSETTO:-0700
TZNAME:PDT
DTSTART:20260308T100000
END:DAYLIGHT
BEGIN:STANDARD
TZOFFSETFROM:-0700
TZOFFSETTO:-0800
TZNAME:PST
DTSTART:20261101T090000
END:STANDARD
END:VTIMEZONE
BEGIN:VTIMEZONE
TZID:UTC
BEGIN:STANDARD
TZOFFSETFROM:+0000
TZOFFSETTO:+0000
TZNAME:UTC
DTSTART:20240101T000000
END:STANDARD
END:VTIMEZONE
BEGIN:VEVENT
DTSTART;TZID=America/Los_Angeles:20250813T190000
DTEND;TZID=America/Los_Angeles:20250813T210000
DTSTAMP:20260420T053358
CREATED:20250802T184333Z
LAST-MODIFIED:20250916T202212Z
UID:10000386-1755111600-1755118800@theheadlinersclub.com
SUMMARY:Headliners Karaoke Wednesdays!
DESCRIPTION:Stop in\, grab the mic\, and take the stage! Join us each week to express your emotions through the majesty of song.\nFREE Admission! 21 & Over
URL:https://theheadlinersclub.com/event/headliners-karaoke-3-2/2025-08-13/
LOCATION:The Headliners Club\, 17880 SW McEwan Road\, Lake Oswego\, OR\, 97035
CATEGORIES:weekly
ATTACH;FMTTYPE=image/jpeg:https://theheadlinersclub.com/wp-content/uploads/2025/04/karaoke-alt-Cover.webp
END:VEVENT
BEGIN:VEVENT
DTSTART;TZID=America/Los_Angeles:20250814T190000
DTEND;TZID=America/Los_Angeles:20250814T210000
DTSTAMP:20260420T053358
CREATED:20250623T161232Z
LAST-MODIFIED:20251011T011922Z
UID:10000689-1755198000-1755205200@theheadlinersclub.com
SUMMARY:Cornhole Thursdays
DESCRIPTION:Our Thursday cornhole nights are open to the public! Each week\, a 4-game round robin tournament and single elimination bracket play. The last Thursday of the month\, winners receive The Headliners Club gift cards\, concert tickets and more! No need to bring a team; your teammate changes each round!\n\nCompete while enjoying some incredible cocktails and tasty food! www.theheadlinersclub.com/menu\nRegistration at the door (doors open at 4pm). Let the bags fly!
URL:https://theheadlinersclub.com/event/cornhole-league/2025-08-14/
LOCATION:The Headliners Club\, 17880 SW McEwan Road\, Lake Oswego\, OR\, 97035
CATEGORIES:weekly
ATTACH;FMTTYPE=image/jpeg:https://theheadlinersclub.com/wp-content/uploads/2025/06/thc-cornhole-Cover.webp
END:VEVENT
BEGIN:VEVENT
DTSTART;TZID=UTC:20250815T200000
DTEND;TZID=UTC:20250815T200000
DTSTAMP:20260420T053358
CREATED:20250618T012636Z
LAST-MODIFIED:20250618T012850Z
UID:10000680-1755288000-1755288000@theheadlinersclub.com
SUMMARY:DADSTOCK: AfterMarket • The Archives • Retrofit
DESCRIPTION:21 & over | $15 Advance/ $20 Day Of Show | AfterMarket is Tualatin’s original “Dad Band”\, known for engaging live performances that bring people together. They celebrate music\, community\, and the joy that only a live band can offer.\nThe Archives is a Portland\, Oregon cover band playing a unique mix of music from the 80s\, 90s and beyond! Follow us for show info\, band news\, and other fun classic rock\, prog\, and new wave stuff!\nRetrofit is the classic rock band that entertains you with hits from the 60’s\, 70’s\, 80’s and more! \n – – – –\nGET TICKETS\nReserved Seating Available
URL:https://theheadlinersclub.com/event/dadstock-081525/
LOCATION:The Headliners Club\, 17880 SW McEwan Road\, Lake Oswego\, OR\, 97035
ATTACH;FMTTYPE=image/jpeg:https://theheadlinersclub.com/wp-content/uploads/2025/06/25-0815-HEADLINERS-dadstock-FB-Cover.webp
END:VEVENT
BEGIN:VEVENT
DTSTART;TZID=UTC:20250816T200000
DTEND;TZID=UTC:20250816T200000
DTSTAMP:20260420T053358
CREATED:20250425T222357Z
LAST-MODIFIED:20250609T174454Z
UID:10000668-1755374400-1755374400@theheadlinersclub.com
SUMMARY:No Quarter [Led Zeppelin tribute]
DESCRIPTION:21 & Over | $20 Advance / $25 Day Of | No Quarter – Led Zeppelin tribute is an internationally-known act that has been pounding the Hammer of the Gods for over 15 years. Their dedication to authenticity in the music\, look\, sound\, and stage performance has earned raves from even the most ardent Zep fans with every spellbinding show.  \n– – – – \nGET TICKETS\nReserved Seating Available
URL:https://theheadlinersclub.com/event/no-quarter-081625/
LOCATION:The Headliners Club\, 17880 SW McEwan Road\, Lake Oswego\, OR\, 97035
ATTACH;FMTTYPE=image/jpeg:https://theheadlinersclub.com/wp-content/uploads/2025/04/25-0816-HEADLINERS-No-quarter-FB-Cover.webp
END:VEVENT
END:VCALENDAR