BEGIN:VCALENDAR
VERSION:2.0
PRODID:-//The Headliners Club - ECPv6.15.20//NONSGML v1.0//EN
CALSCALE:GREGORIAN
METHOD:PUBLISH
X-WR-CALNAME:The Headliners Club
X-ORIGINAL-URL:https://theheadlinersclub.com
X-WR-CALDESC:Events for The Headliners Club
REFRESH-INTERVAL;VALUE=DURATION:PT1H
X-Robots-Tag:noindex
X-PUBLISHED-TTL:PT1H
BEGIN:VTIMEZONE
TZID:America/Los_Angeles
BEGIN:DAYLIGHT
TZOFFSETFROM:-0800
TZOFFSETTO:-0700
TZNAME:PDT
DTSTART:20240310T100000
END:DAYLIGHT
BEGIN:STANDARD
TZOFFSETFROM:-0700
TZOFFSETTO:-0800
TZNAME:PST
DTSTART:20241103T090000
END:STANDARD
BEGIN:DAYLIGHT
TZOFFSETFROM:-0800
TZOFFSETTO:-0700
TZNAME:PDT
DTSTART:20250309T100000
END:DAYLIGHT
BEGIN:STANDARD
TZOFFSETFROM:-0700
TZOFFSETTO:-0800
TZNAME:PST
DTSTART:20251102T090000
END:STANDARD
BEGIN:DAYLIGHT
TZOFFSETFROM:-0800
TZOFFSETTO:-0700
TZNAME:PDT
DTSTART:20260308T100000
END:DAYLIGHT
BEGIN:STANDARD
TZOFFSETFROM:-0700
TZOFFSETTO:-0800
TZNAME:PST
DTSTART:20261101T090000
END:STANDARD
END:VTIMEZONE
BEGIN:VTIMEZONE
TZID:UTC
BEGIN:STANDARD
TZOFFSETFROM:+0000
TZOFFSETTO:+0000
TZNAME:UTC
DTSTART:20240101T000000
END:STANDARD
END:VTIMEZONE
BEGIN:VEVENT
DTSTART;TZID=America/Los_Angeles:20250820T190000
DTEND;TZID=America/Los_Angeles:20250820T210000
DTSTAMP:20260420T124054
CREATED:20250802T184333Z
LAST-MODIFIED:20250916T202212Z
UID:10000387-1755716400-1755723600@theheadlinersclub.com
SUMMARY:Headliners Karaoke Wednesdays!
DESCRIPTION:Stop in\, grab the mic\, and take the stage! Join us each week to express your emotions through the majesty of song.\nFREE Admission! 21 & Over
URL:https://theheadlinersclub.com/event/headliners-karaoke-3-2/2025-08-20/
LOCATION:The Headliners Club\, 17880 SW McEwan Road\, Lake Oswego\, OR\, 97035
CATEGORIES:weekly
ATTACH;FMTTYPE=image/jpeg:https://theheadlinersclub.com/wp-content/uploads/2025/04/karaoke-alt-Cover.webp
END:VEVENT
BEGIN:VEVENT
DTSTART;TZID=America/Los_Angeles:20250821T190000
DTEND;TZID=America/Los_Angeles:20250821T210000
DTSTAMP:20260420T124054
CREATED:20250623T161232Z
LAST-MODIFIED:20251011T011922Z
UID:10000690-1755802800-1755810000@theheadlinersclub.com
SUMMARY:Cornhole Thursdays
DESCRIPTION:Our Thursday cornhole nights are open to the public! Each week\, a 4-game round robin tournament and single elimination bracket play. The last Thursday of the month\, winners receive The Headliners Club gift cards\, concert tickets and more! No need to bring a team; your teammate changes each round!\n\nCompete while enjoying some incredible cocktails and tasty food! www.theheadlinersclub.com/menu\nRegistration at the door (doors open at 4pm). Let the bags fly!
URL:https://theheadlinersclub.com/event/cornhole-league/2025-08-21/
LOCATION:The Headliners Club\, 17880 SW McEwan Road\, Lake Oswego\, OR\, 97035
CATEGORIES:weekly
ATTACH;FMTTYPE=image/jpeg:https://theheadlinersclub.com/wp-content/uploads/2025/06/thc-cornhole-Cover.webp
END:VEVENT
BEGIN:VEVENT
DTSTART;TZID=UTC:20250822T200000
DTEND;TZID=UTC:20250822T200000
DTSTAMP:20260420T124054
CREATED:20250425T222859Z
LAST-MODIFIED:20250630T223652Z
UID:10000669-1755892800-1755892800@theheadlinersclub.com
SUMMARY:One Way Out [Allman Brothers Band] • Shafty [Phish tribute]
DESCRIPTION:21 & OVER | $20 Advance / $25 Day Of Show | One Way Out PDX – Allman Brothers Band tribute is Portland’s 8-member powerhouse celebration of the music of the the jam band legends. Using the music of the ABB as a launching pad\, every One Way Out performance is an improvisational journey\, capturing the energy\, chemistry\, and virtuosity of one of the best live bands ever. \nShafty – Portland’s Tribute to Phish brings masterful improv to the stage using a decades-deep catalog as a trampoline for creative expression.  Their faithful recreation of Phish’s light-hearted progressive rock rides waves of steamy dance jams while dropping surprising twists & turns. For example\, you might hear Neil Young\, Spice Girls\, and Lil’ Jon songs threaded into a maze of Phish originals! Shafty leaves audiences guessing at the songlist (and questioning their sanity) while they boogie on long after the moment ends! \n– – – – \nGET TICKETS\nReserved Seats Available
URL:https://theheadlinersclub.com/event/shafty-082225/
LOCATION:The Headliners Club\, 17880 SW McEwan Road\, Lake Oswego\, OR\, 97035
ATTACH;FMTTYPE=image/jpeg:https://theheadlinersclub.com/wp-content/uploads/2025/04/25-0822-HEADLINERS-shafty-FB-Cover.webp
END:VEVENT
BEGIN:VEVENT
DTSTART;TZID=America/Los_Angeles:20250823T110000
DTEND;TZID=America/Los_Angeles:20250823T170000
DTSTAMP:20260420T124054
CREATED:20250821T195339Z
LAST-MODIFIED:20250821T195339Z
UID:10000959-1755946800-1755968400@theheadlinersclub.com
SUMMARY:The Headliners BAR-tathalon
DESCRIPTION:Show off your “drinking game” skills this Saturday in the The Headliners Club Bar-tathalon. No teams required\, this is an individual competition. Only one may raise the Headliners Bartathalon trophy!   Prepare to demonstrate your CORNHOLE\, POOL\, QUARTERS\, BEER PONG\, and DARTS skills. We’ll also have drink specials\, 50/50 raffle\, and tournament prizes.\n\n\n\nRegister at the club\, doors open at 10am. $25 per player\, includes (2) beverages.
URL:https://theheadlinersclub.com/event/bartathalon-082325/
LOCATION:The Headliners Club\, 17880 SW McEwan Road\, Lake Oswego\, OR\, 97035
END:VEVENT
BEGIN:VEVENT
DTSTART;TZID=UTC:20250823T200000
DTEND;TZID=UTC:20250823T200000
DTSTAMP:20260420T124054
CREATED:20250607T183833Z
LAST-MODIFIED:20250610T002348Z
UID:10000678-1755979200-1755979200@theheadlinersclub.com
SUMMARY:Nevermind [Nirvana tribute] • Island InThe Sun [Weezer] • Infatuation Junkie [Alanis]
DESCRIPTION:21 & OVER | $20 Advance / $25 Day Of Show | Nevermind – Nirvana tribute is a Seattle-based band hailing from the SODO district. They strive to reproduce the raw-nerve\, punk-influenced grunge ethos that made Nirvana the most compelling live and recorded band of their generation\, and man…do they deliver! \nIsland In The Sun – Weezer tribute takes you on a time-warp to the 90s alternative explosion that saw Rivers Cuomo and company at its vanguard. Prepare to pogo through a set that could include some unexpected (but beloved) deep cuts along side anthems like “Buddy Holly”\, “Say It Ain’t So” and “Hash Pipe.” Geek rockers unite! \nInfatuation Junkie – Alanis Morissette tribute channels the fierce spirit and poetic intensity of the 90s icon\, delivering pitch-perfect renditions of iconic hits. From the haunting “Uninvited” to the anthemic “You Oughta Know\,” Infatuation Junkie immerses you in a nostalgic journey through Alanis’ groundbreaking album JAGGED LITTLE PILL and beyond. Captivating performances and authentic soundscapes create not just a tribute\, but a revival. \n– – – – \nGET TICKETS\nReserved Seats Available
URL:https://theheadlinersclub.com/event/nevermind-082325/
LOCATION:The Headliners Club\, 17880 SW McEwan Road\, Lake Oswego\, OR\, 97035
ATTACH;FMTTYPE=image/jpeg:https://theheadlinersclub.com/wp-content/uploads/2025/06/25-0823-HEADLINERS-nevermind-FB-Cover.webp
END:VEVENT
END:VCALENDAR