BEGIN:VCALENDAR
VERSION:2.0
PRODID:-//The Headliners Club - ECPv6.15.20//NONSGML v1.0//EN
CALSCALE:GREGORIAN
METHOD:PUBLISH
X-ORIGINAL-URL:https://theheadlinersclub.com
X-WR-CALDESC:Events for The Headliners Club
REFRESH-INTERVAL;VALUE=DURATION:PT1H
X-Robots-Tag:noindex
X-PUBLISHED-TTL:PT1H
BEGIN:VTIMEZONE
TZID:America/Los_Angeles
BEGIN:DAYLIGHT
TZOFFSETFROM:-0800
TZOFFSETTO:-0700
TZNAME:PDT
DTSTART:20240310T100000
END:DAYLIGHT
BEGIN:STANDARD
TZOFFSETFROM:-0700
TZOFFSETTO:-0800
TZNAME:PST
DTSTART:20241103T090000
END:STANDARD
BEGIN:DAYLIGHT
TZOFFSETFROM:-0800
TZOFFSETTO:-0700
TZNAME:PDT
DTSTART:20250309T100000
END:DAYLIGHT
BEGIN:STANDARD
TZOFFSETFROM:-0700
TZOFFSETTO:-0800
TZNAME:PST
DTSTART:20251102T090000
END:STANDARD
BEGIN:DAYLIGHT
TZOFFSETFROM:-0800
TZOFFSETTO:-0700
TZNAME:PDT
DTSTART:20260308T100000
END:DAYLIGHT
BEGIN:STANDARD
TZOFFSETFROM:-0700
TZOFFSETTO:-0800
TZNAME:PST
DTSTART:20261101T090000
END:STANDARD
END:VTIMEZONE
BEGIN:VTIMEZONE
TZID:UTC
BEGIN:STANDARD
TZOFFSETFROM:+0000
TZOFFSETTO:+0000
TZNAME:UTC
DTSTART:20240101T000000
END:STANDARD
END:VTIMEZONE
BEGIN:VEVENT
DTSTART;TZID=America/Los_Angeles:20250903T190000
DTEND;TZID=America/Los_Angeles:20250903T210000
DTSTAMP:20260421T051041
CREATED:20250802T184333Z
LAST-MODIFIED:20250916T202212Z
UID:10000389-1756926000-1756933200@theheadlinersclub.com
SUMMARY:Headliners Karaoke Wednesdays!
DESCRIPTION:Stop in\, grab the mic\, and take the stage! Join us each week to express your emotions through the majesty of song.\nFREE Admission! 21 & Over
URL:https://theheadlinersclub.com/event/headliners-karaoke-3-2/2025-09-03/
LOCATION:The Headliners Club\, 17880 SW McEwan Road\, Lake Oswego\, OR\, 97035
CATEGORIES:weekly
ATTACH;FMTTYPE=image/jpeg:https://theheadlinersclub.com/wp-content/uploads/2025/04/karaoke-alt-Cover.webp
END:VEVENT
BEGIN:VEVENT
DTSTART;TZID=America/Los_Angeles:20250904T190000
DTEND;TZID=America/Los_Angeles:20250904T210000
DTSTAMP:20260421T051041
CREATED:20250623T161232Z
LAST-MODIFIED:20251011T011922Z
UID:10000692-1757012400-1757019600@theheadlinersclub.com
SUMMARY:Cornhole Thursdays
DESCRIPTION:Our Thursday cornhole nights are open to the public! Each week\, a 4-game round robin tournament and single elimination bracket play. The last Thursday of the month\, winners receive The Headliners Club gift cards\, concert tickets and more! No need to bring a team; your teammate changes each round!\n\nCompete while enjoying some incredible cocktails and tasty food! www.theheadlinersclub.com/menu\nRegistration at the door (doors open at 4pm). Let the bags fly!
URL:https://theheadlinersclub.com/event/cornhole-league/2025-09-04/
LOCATION:The Headliners Club\, 17880 SW McEwan Road\, Lake Oswego\, OR\, 97035
CATEGORIES:weekly
ATTACH;FMTTYPE=image/jpeg:https://theheadlinersclub.com/wp-content/uploads/2025/06/thc-cornhole-Cover.webp
END:VEVENT
BEGIN:VEVENT
DTSTART;TZID=UTC:20250905T200000
DTEND;TZID=UTC:20250905T200000
DTSTAMP:20260421T051041
CREATED:20250628T190721Z
LAST-MODIFIED:20250628T195236Z
UID:10000943-1757102400-1757102400@theheadlinersclub.com
SUMMARY:Glass Of Hearts [Blondie tribute] • Tragic Kingdom [No Doubt] • Precious [The Pretenders]
DESCRIPTION:21 & over | $20 Advance/ $25 Day Of Show | Glass Of Hearts – Blondie tribute brings the NW a taste of the female-fronted New Wave powerhouse\, delivering every ounce of the punk/disco/rap energy of Debbie Harry and crew in their prime. Combining all the hits with deep cuts and a few surprises\, Glass of Hearts prides themselves on a tight\, polished\, energetic show for fans and casual listeners alike. \nTragic Kingdom – No Doubt tribute is a vibrant Portland\, Oregon band that delivers an electrifying homage to the iconic band with infectious energy and impeccable musicianship\, keeping the spirit of the era alive with every exhilarating performance \nPrecious – The Pretenders tribute opens the evening! \n – – – –\nGET TICKETS\nReserved Seating Available
URL:https://theheadlinersclub.com/event/glass-of-hearts-090525/
LOCATION:The Headliners Club\, 17880 SW McEwan Road\, Lake Oswego\, OR\, 97035
ATTACH;FMTTYPE=image/jpeg:https://theheadlinersclub.com/wp-content/uploads/2025/06/25-0905-HEADLINERS-glass-tragic-FB-Cover.webp
END:VEVENT
BEGIN:VEVENT
DTSTART;TZID=UTC:20250906T200000
DTEND;TZID=UTC:20250906T200000
DTSTAMP:20260421T051041
CREATED:20250628T194831Z
LAST-MODIFIED:20250712T163121Z
UID:10000944-1757188800-1757188800@theheadlinersclub.com
SUMMARY:Fortunate Son [CCR tribute] • Harvest Gold [Neil Young]
DESCRIPTION:21 & over | $20 Advance/ $25 Day Of Show | Fortunate Son – CCR Tribute brings the country-rock twist and southern-fried\, swampum-style music that captivated all of the retro children back in the day will have you on your feet. \nHarvest Gold is the area’s premier Neil Young Tribute band. Hit songs from Neil’s incredible 50 year career\, which includes Buffalo Springfield\, Crosby\, Stills\, Nash and Young\, his solo career\, and with his incredible band Crazy Horse are all covered. \n – – – –\nGET TICKETS\nReserved Seating Available
URL:https://theheadlinersclub.com/event/fortunate-son-090625/
LOCATION:The Headliners Club\, 17880 SW McEwan Road\, Lake Oswego\, OR\, 97035
ATTACH;FMTTYPE=image/jpeg:https://theheadlinersclub.com/wp-content/uploads/2025/06/25-0906-HEADLINERS-fortunate-FB-Cover.webp
END:VEVENT
END:VCALENDAR