BEGIN:VCALENDAR
VERSION:2.0
PRODID:-//The Headliners Club - ECPv6.15.20//NONSGML v1.0//EN
CALSCALE:GREGORIAN
METHOD:PUBLISH
X-ORIGINAL-URL:https://theheadlinersclub.com
X-WR-CALDESC:Events for The Headliners Club
REFRESH-INTERVAL;VALUE=DURATION:PT1H
X-Robots-Tag:noindex
X-PUBLISHED-TTL:PT1H
BEGIN:VTIMEZONE
TZID:UTC
BEGIN:STANDARD
TZOFFSETFROM:+0000
TZOFFSETTO:+0000
TZNAME:UTC
DTSTART:20240101T000000
END:STANDARD
END:VTIMEZONE
BEGIN:VTIMEZONE
TZID:America/Los_Angeles
BEGIN:DAYLIGHT
TZOFFSETFROM:-0800
TZOFFSETTO:-0700
TZNAME:PDT
DTSTART:20240310T100000
END:DAYLIGHT
BEGIN:STANDARD
TZOFFSETFROM:-0700
TZOFFSETTO:-0800
TZNAME:PST
DTSTART:20241103T090000
END:STANDARD
BEGIN:DAYLIGHT
TZOFFSETFROM:-0800
TZOFFSETTO:-0700
TZNAME:PDT
DTSTART:20250309T100000
END:DAYLIGHT
BEGIN:STANDARD
TZOFFSETFROM:-0700
TZOFFSETTO:-0800
TZNAME:PST
DTSTART:20251102T090000
END:STANDARD
BEGIN:DAYLIGHT
TZOFFSETFROM:-0800
TZOFFSETTO:-0700
TZNAME:PDT
DTSTART:20260308T100000
END:DAYLIGHT
BEGIN:STANDARD
TZOFFSETFROM:-0700
TZOFFSETTO:-0800
TZNAME:PST
DTSTART:20261101T090000
END:STANDARD
END:VTIMEZONE
BEGIN:VEVENT
DTSTART;TZID=UTC:20250908T180000
DTEND;TZID=UTC:20250908T200000
DTSTAMP:20260421T105615
CREATED:20250826T202229Z
LAST-MODIFIED:20250826T202229Z
UID:10000960-1757354400-1757361600@theheadlinersclub.com
SUMMARY:Paint & Sip with Portland Paints and Blue Wave Band
DESCRIPTION:21 & Over | $33.85 Advance | A relaxed and creative evening spent with Portland Paints re-purposing vinyl records and hand-painting them to create stunning\, one-of-a-kind works of art. All skill levels welcome; we’re just in it for fun and creative expression.  All materials provided\, including step-by-step instruction from an experienced local artist and a wide variety of paints\, brushes\, and supplies. \nWhile you paint\, Blue Wave Band will be on the Headliners stage performing a variety of musical styles and genres. An immensely entertaining party & event band!\n\nSpots are limited and you must be pre-registered.\n– – – – \nGET TICKETS\nReserved seating available
URL:https://theheadlinersclub.com/event/paint-night-090825/
LOCATION:The Headliners Club\, 17880 SW McEwan Road\, Lake Oswego\, OR\, 97035
ATTACH;FMTTYPE=image/jpeg:https://theheadlinersclub.com/wp-content/uploads/2025/08/25-0908-thc-vinyl.webp
END:VEVENT
BEGIN:VEVENT
DTSTART;TZID=America/Los_Angeles:20250910T190000
DTEND;TZID=America/Los_Angeles:20250910T210000
DTSTAMP:20260421T105615
CREATED:20250802T184333Z
LAST-MODIFIED:20250916T202212Z
UID:10000390-1757530800-1757538000@theheadlinersclub.com
SUMMARY:Headliners Karaoke Wednesdays!
DESCRIPTION:Stop in\, grab the mic\, and take the stage! Join us each week to express your emotions through the majesty of song.\nFREE Admission! 21 & Over
URL:https://theheadlinersclub.com/event/headliners-karaoke-3-2/2025-09-10/
LOCATION:The Headliners Club\, 17880 SW McEwan Road\, Lake Oswego\, OR\, 97035
CATEGORIES:weekly
ATTACH;FMTTYPE=image/jpeg:https://theheadlinersclub.com/wp-content/uploads/2025/04/karaoke-alt-Cover.webp
END:VEVENT
BEGIN:VEVENT
DTSTART;TZID=America/Los_Angeles:20250911T190000
DTEND;TZID=America/Los_Angeles:20250911T210000
DTSTAMP:20260421T105615
CREATED:20250623T161232Z
LAST-MODIFIED:20251011T011922Z
UID:10000693-1757617200-1757624400@theheadlinersclub.com
SUMMARY:Cornhole Thursdays
DESCRIPTION:Our Thursday cornhole nights are open to the public! Each week\, a 4-game round robin tournament and single elimination bracket play. The last Thursday of the month\, winners receive The Headliners Club gift cards\, concert tickets and more! No need to bring a team; your teammate changes each round!\n\nCompete while enjoying some incredible cocktails and tasty food! www.theheadlinersclub.com/menu\nRegistration at the door (doors open at 4pm). Let the bags fly!
URL:https://theheadlinersclub.com/event/cornhole-league/2025-09-11/
LOCATION:The Headliners Club\, 17880 SW McEwan Road\, Lake Oswego\, OR\, 97035
CATEGORIES:weekly
ATTACH;FMTTYPE=image/jpeg:https://theheadlinersclub.com/wp-content/uploads/2025/06/thc-cornhole-Cover.webp
END:VEVENT
BEGIN:VEVENT
DTSTART;TZID=UTC:20250912T200000
DTEND;TZID=UTC:20250912T200000
DTSTAMP:20260421T105615
CREATED:20250712T163002Z
LAST-MODIFIED:20250712T163042Z
UID:10000945-1757707200-1757707200@theheadlinersclub.com
SUMMARY:Radical Revolution [Awesome 80s Party]
DESCRIPTION:21 & Over | $15 Advance\, $20 Day Of Show | Radical Revolution is a 6-piece 80’s tribute band packing a huge variety of 80’s hits (Whitney Houston\, Rick Springfield\, Madonna\, A-Ha\, Def Leppard\, Go-Go’s\, Kenny Loggins\, Erasure\, and WAY more!). The band features both female and male lead vocals\, fat keyboards\, blistering guitars\, thumping bass\, and big 80’s drums to keep everyone dancing from start to finish! \n– – – – \nTICKETS
URL:https://theheadlinersclub.com/event/radical-revolution-091225/
LOCATION:The Headliners Club\, 17880 SW McEwan Road\, Lake Oswego\, OR\, 97035
ATTACH;FMTTYPE=image/jpeg:https://theheadlinersclub.com/wp-content/uploads/2025/07/25-0912-HEADLINERS-rad-rev-FB-Cover.webp
END:VEVENT
BEGIN:VEVENT
DTSTART;TZID=UTC:20250913T200000
DTEND;TZID=UTC:20250913T200000
DTSTAMP:20260421T105615
CREATED:20250712T163314Z
LAST-MODIFIED:20250712T163314Z
UID:10000946-1757793600-1757793600@theheadlinersclub.com
SUMMARY:Hit Machine
DESCRIPTION:21 & Over | $15 Advance/ $20 Day of Show | Hit Machine plays hits from all eras; it’s not uncommon to hear Stayin’ Alive (Bee Gees)\, Kiss (Prince)\, Dynamite (Taio Cruz)\, You Shook Me All Night Long (AC/DC) all in the same set. Fronted by the dynamic Bart Hafeman\, the energy projected from this group is WILD! – – – – \nTICKETS\nreserved seating available
URL:https://theheadlinersclub.com/event/hit-machine-091325/
LOCATION:The Headliners Club\, 17880 SW McEwan Road\, Lake Oswego\, OR\, 97035
ATTACH;FMTTYPE=image/jpeg:https://theheadlinersclub.com/wp-content/uploads/2025/07/25-0913-HEADLINERS-hit-machine-FB-Cover.webp
END:VEVENT
END:VCALENDAR