BEGIN:VCALENDAR
VERSION:2.0
PRODID:-//The Headliners Club - ECPv6.15.20//NONSGML v1.0//EN
CALSCALE:GREGORIAN
METHOD:PUBLISH
X-WR-CALNAME:The Headliners Club
X-ORIGINAL-URL:https://theheadlinersclub.com
X-WR-CALDESC:Events for The Headliners Club
REFRESH-INTERVAL;VALUE=DURATION:PT1H
X-Robots-Tag:noindex
X-PUBLISHED-TTL:PT1H
BEGIN:VTIMEZONE
TZID:America/Los_Angeles
BEGIN:DAYLIGHT
TZOFFSETFROM:-0800
TZOFFSETTO:-0700
TZNAME:PDT
DTSTART:20240310T100000
END:DAYLIGHT
BEGIN:STANDARD
TZOFFSETFROM:-0700
TZOFFSETTO:-0800
TZNAME:PST
DTSTART:20241103T090000
END:STANDARD
BEGIN:DAYLIGHT
TZOFFSETFROM:-0800
TZOFFSETTO:-0700
TZNAME:PDT
DTSTART:20250309T100000
END:DAYLIGHT
BEGIN:STANDARD
TZOFFSETFROM:-0700
TZOFFSETTO:-0800
TZNAME:PST
DTSTART:20251102T090000
END:STANDARD
BEGIN:DAYLIGHT
TZOFFSETFROM:-0800
TZOFFSETTO:-0700
TZNAME:PDT
DTSTART:20260308T100000
END:DAYLIGHT
BEGIN:STANDARD
TZOFFSETFROM:-0700
TZOFFSETTO:-0800
TZNAME:PST
DTSTART:20261101T090000
END:STANDARD
END:VTIMEZONE
BEGIN:VTIMEZONE
TZID:UTC
BEGIN:STANDARD
TZOFFSETFROM:+0000
TZOFFSETTO:+0000
TZNAME:UTC
DTSTART:20240101T000000
END:STANDARD
END:VTIMEZONE
BEGIN:VEVENT
DTSTART;TZID=America/Los_Angeles:20250917T190000
DTEND;TZID=America/Los_Angeles:20250917T210000
DTSTAMP:20260423T162916
CREATED:20250802T184333Z
LAST-MODIFIED:20250916T202212Z
UID:10000391-1758135600-1758142800@theheadlinersclub.com
SUMMARY:Headliners Karaoke Wednesdays!
DESCRIPTION:Stop in\, grab the mic\, and take the stage! Join us each week to express your emotions through the majesty of song.\nFREE Admission! 21 & Over
URL:https://theheadlinersclub.com/event/headliners-karaoke-3-2/2025-09-17/
LOCATION:The Headliners Club\, 17880 SW McEwan Road\, Lake Oswego\, OR\, 97035
CATEGORIES:weekly
ATTACH;FMTTYPE=image/jpeg:https://theheadlinersclub.com/wp-content/uploads/2025/04/karaoke-alt-Cover.webp
END:VEVENT
BEGIN:VEVENT
DTSTART;TZID=America/Los_Angeles:20250918T190000
DTEND;TZID=America/Los_Angeles:20250918T210000
DTSTAMP:20260423T162916
CREATED:20250623T161232Z
LAST-MODIFIED:20251011T011922Z
UID:10000694-1758222000-1758229200@theheadlinersclub.com
SUMMARY:Cornhole Thursdays
DESCRIPTION:Our Thursday cornhole nights are open to the public! Each week\, a 4-game round robin tournament and single elimination bracket play. The last Thursday of the month\, winners receive The Headliners Club gift cards\, concert tickets and more! No need to bring a team; your teammate changes each round!\n\nCompete while enjoying some incredible cocktails and tasty food! www.theheadlinersclub.com/menu\nRegistration at the door (doors open at 4pm). Let the bags fly!
URL:https://theheadlinersclub.com/event/cornhole-league/2025-09-18/
LOCATION:The Headliners Club\, 17880 SW McEwan Road\, Lake Oswego\, OR\, 97035
CATEGORIES:weekly
ATTACH;FMTTYPE=image/jpeg:https://theheadlinersclub.com/wp-content/uploads/2025/06/thc-cornhole-Cover.webp
END:VEVENT
BEGIN:VEVENT
DTSTART;TZID=UTC:20250919T200000
DTEND;TZID=UTC:20250919T200000
DTSTAMP:20260423T162916
CREATED:20250724T230251Z
LAST-MODIFIED:20250724T230251Z
UID:10000947-1758312000-1758312000@theheadlinersclub.com
SUMMARY:Ramble On [Led Zeppelin tribute] • Grandifolia
DESCRIPTION:21 & Over | $15 Advance/ $20 Day of Show | Ramble On – Led Zeppelin tribute aspires to authentically capture the raw energy and mystique of the Led Zeppelin legacy. Its members (Rich Ray\, Ryan Moore\, Justin Gibson\, Jerry Burke-Perez) balance the original recordings with live performance interpretations of legendary songs. You will be transported as you witness Ramble On re-creating the ground-breaking Zeppelin sound. \nGrandifolia is a 5-piece alternative rock band from Portland Oregon. Their style is very similar to the rock vibes of the 1990’s with smooth funk/jazz riffs that transition to punchy rock grooves. – – – –\nTICKETS\nreserved seating available
URL:https://theheadlinersclub.com/event/ramble-on-091925/
LOCATION:The Headliners Club\, 17880 SW McEwan Road\, Lake Oswego\, OR\, 97035
ATTACH;FMTTYPE=image/jpeg:https://theheadlinersclub.com/wp-content/uploads/2025/07/25-0919-HEADLINERS-Ramble-On-FB-Cover.webp
END:VEVENT
BEGIN:VEVENT
DTSTART;TZID=UTC:20250920T200000
DTEND;TZID=UTC:20250920T200000
DTSTAMP:20260423T162916
CREATED:20250724T230638Z
LAST-MODIFIED:20250806T214626Z
UID:10000948-1758398400-1758398400@theheadlinersclub.com
SUMMARY:Almost Human [KISS tribute] • The DC's [AC⚡DC]
DESCRIPTION:21 & Over | $15 Advance/ $20 Day of Show | Almost Human – KISS tribute features full Destroyer-era costumes\, makeup\, and all the rock n roll attitude\, swagger\, and shenanigans that make a real KISS show so electrifying. Almost Human raises the bar with choreography\, explosions\, fire breathing\, and a few other tricks in their live show. “So let’s rock and roll all night\, and party every day”! \nThe DC’s – AC/DC tribute is an homage to the greatest rock n’ roll band ever. Coming soon to a dive near you!!\n – – – –\nTICKETS\nreserved seating available
URL:https://theheadlinersclub.com/event/almost-human-092025/
LOCATION:The Headliners Club\, 17880 SW McEwan Road\, Lake Oswego\, OR\, 97035
ATTACH;FMTTYPE=image/jpeg:https://theheadlinersclub.com/wp-content/uploads/2025/07/25-0920-HEADLINERS-almost-FB-Cover.webp
END:VEVENT
END:VCALENDAR