BEGIN:VCALENDAR
VERSION:2.0
PRODID:-//The Headliners Club - ECPv6.15.20//NONSGML v1.0//EN
CALSCALE:GREGORIAN
METHOD:PUBLISH
X-WR-CALNAME:The Headliners Club
X-ORIGINAL-URL:https://theheadlinersclub.com
X-WR-CALDESC:Events for The Headliners Club
REFRESH-INTERVAL;VALUE=DURATION:PT1H
X-Robots-Tag:noindex
X-PUBLISHED-TTL:PT1H
BEGIN:VTIMEZONE
TZID:America/Los_Angeles
BEGIN:DAYLIGHT
TZOFFSETFROM:-0800
TZOFFSETTO:-0700
TZNAME:PDT
DTSTART:20240310T100000
END:DAYLIGHT
BEGIN:STANDARD
TZOFFSETFROM:-0700
TZOFFSETTO:-0800
TZNAME:PST
DTSTART:20241103T090000
END:STANDARD
BEGIN:DAYLIGHT
TZOFFSETFROM:-0800
TZOFFSETTO:-0700
TZNAME:PDT
DTSTART:20250309T100000
END:DAYLIGHT
BEGIN:STANDARD
TZOFFSETFROM:-0700
TZOFFSETTO:-0800
TZNAME:PST
DTSTART:20251102T090000
END:STANDARD
BEGIN:DAYLIGHT
TZOFFSETFROM:-0800
TZOFFSETTO:-0700
TZNAME:PDT
DTSTART:20260308T100000
END:DAYLIGHT
BEGIN:STANDARD
TZOFFSETFROM:-0700
TZOFFSETTO:-0800
TZNAME:PST
DTSTART:20261101T090000
END:STANDARD
END:VTIMEZONE
BEGIN:VTIMEZONE
TZID:UTC
BEGIN:STANDARD
TZOFFSETFROM:+0000
TZOFFSETTO:+0000
TZNAME:UTC
DTSTART:20240101T000000
END:STANDARD
END:VTIMEZONE
BEGIN:VEVENT
DTSTART;TZID=America/Los_Angeles:20251008T190000
DTEND;TZID=America/Los_Angeles:20251008T220000
DTSTAMP:20260421T105341
CREATED:20251011T010006Z
LAST-MODIFIED:20260211T172022Z
UID:10000994-1759950000-1759960800@theheadlinersclub.com
SUMMARY:Headliners Karaoke Wednesdays!
DESCRIPTION:Stop in\, grab the mic\, and take the stage! Join us each week to express your emotions through the majesty of song.\nFREE Admission! 21 & Over
URL:https://theheadlinersclub.com/event/headliners-karaoke-3-2-2/2025-10-08/
LOCATION:The Headliners Club\, 17880 SW McEwan Road\, Lake Oswego\, OR\, 97035
CATEGORIES:weekly
ATTACH;FMTTYPE=image/jpeg:https://theheadlinersclub.com/wp-content/uploads/2025/04/karaoke-alt-Cover.webp
END:VEVENT
BEGIN:VEVENT
DTSTART;TZID=America/Los_Angeles:20251009T190000
DTEND;TZID=America/Los_Angeles:20251009T210000
DTSTAMP:20260421T105341
CREATED:20250623T161232Z
LAST-MODIFIED:20251011T011922Z
UID:10000697-1760036400-1760043600@theheadlinersclub.com
SUMMARY:Cornhole Thursdays
DESCRIPTION:Our Thursday cornhole nights are open to the public! Each week\, a 4-game round robin tournament and single elimination bracket play. The last Thursday of the month\, winners receive The Headliners Club gift cards\, concert tickets and more! No need to bring a team; your teammate changes each round!\n\nCompete while enjoying some incredible cocktails and tasty food! www.theheadlinersclub.com/menu\nRegistration at the door (doors open at 4pm). Let the bags fly!
URL:https://theheadlinersclub.com/event/cornhole-league/2025-10-09/
LOCATION:The Headliners Club\, 17880 SW McEwan Road\, Lake Oswego\, OR\, 97035
CATEGORIES:weekly
ATTACH;FMTTYPE=image/jpeg:https://theheadlinersclub.com/wp-content/uploads/2025/06/thc-cornhole-Cover.webp
END:VEVENT
BEGIN:VEVENT
DTSTART;TZID=UTC:20251010T200000
DTEND;TZID=UTC:20251010T200000
DTSTAMP:20260421T105341
CREATED:20250801T222414Z
LAST-MODIFIED:20250812T164557Z
UID:10000953-1760126400-1760126400@theheadlinersclub.com
SUMMARY:Battery\, Inc. [Metallica tribute] • Sabbath Live [Black Sabbath]
DESCRIPTION:21 & Over | $20 Advance/ $25 Day of Show | Battery\, Inc. – Metallica tribute is out to crush all deceivers\, smash non-believers\, and wave the metal flag as the Pacific Northwest’s ultimate Metallica tribute. From KILL ‘EM ALL to 72 SEASONS\, they bring the full-throttle fury. So let it be written. So let it be done. \n\nSabbath Live – Black Sabbath tribute is a powerful SW Washington group delivering the raw energy and iconic sound of the metal legends. Featuring Tim Tugg (Crazy Train – Ozzy tribute) and Al Silviera (Jar Of Lies – Alice In Chains tribute)\, the band unites veteran talent from the tribute scene. With thunderous riffs and haunting vocals\, Sabbath Live brings an authentic and unforgettable Sabbath experience to every stage.\n\n– – – – – \nGET TICKETS\nreserved seating available
URL:https://theheadlinersclub.com/event/battery-inc-101025/
LOCATION:The Headliners Club\, 17880 SW McEwan Road\, Lake Oswego\, OR\, 97035
ATTACH;FMTTYPE=image/jpeg:https://theheadlinersclub.com/wp-content/uploads/2025/08/25-1010-HEADLINERS-battery-FB-Cover.webp
END:VEVENT
BEGIN:VEVENT
DTSTART;TZID=UTC:20251011T200000
DTEND;TZID=UTC:20251011T200000
DTSTAMP:20260421T105341
CREATED:20250801T223905Z
LAST-MODIFIED:20250904T204435Z
UID:10000954-1760212800-1760212800@theheadlinersclub.com
SUMMARY:Andy Stokes • Lilla
DESCRIPTION:21 & Over | $25 Advance/ $30 Day of Show | Andy Stokes is the king of Northwest soul music\, sharing his soulful voice and undeniable musical mastery with the world for more than 3 decades. The singer-songwriter is known for his powerful vocals and unforgettable live performances showcasing silky smooth R&B style and gritty emotion. \nLilla is a Northwest artist who infuses her music with passion and soul. She’s opened for artists such as Mos Def\, Damian Marley\, Christian Scott\, Ciara and has recorded with Esperanza Spalding\, Talib Kweli and more. With her dynamic band and soulful originals\, she brings remarkable storytelling\, musicianship\, presence\, energy\, depth and talent to the stage.– – – – – \nGET TICKETS\nreserved seating available
URL:https://theheadlinersclub.com/event/andy-stokes-101125/
LOCATION:The Headliners Club\, 17880 SW McEwan Road\, Lake Oswego\, OR\, 97035
ATTACH;FMTTYPE=image/jpeg:https://theheadlinersclub.com/wp-content/uploads/2025/08/25-1011-HEADLINERS-andy-stokes-FB-Cover.webp
END:VEVENT
END:VCALENDAR