BEGIN:VCALENDAR
VERSION:2.0
PRODID:-//The Headliners Club - ECPv6.15.20//NONSGML v1.0//EN
CALSCALE:GREGORIAN
METHOD:PUBLISH
X-WR-CALNAME:The Headliners Club
X-ORIGINAL-URL:https://theheadlinersclub.com
X-WR-CALDESC:Events for The Headliners Club
REFRESH-INTERVAL;VALUE=DURATION:PT1H
X-Robots-Tag:noindex
X-PUBLISHED-TTL:PT1H
BEGIN:VTIMEZONE
TZID:America/Los_Angeles
BEGIN:DAYLIGHT
TZOFFSETFROM:-0800
TZOFFSETTO:-0700
TZNAME:PDT
DTSTART:20240310T100000
END:DAYLIGHT
BEGIN:STANDARD
TZOFFSETFROM:-0700
TZOFFSETTO:-0800
TZNAME:PST
DTSTART:20241103T090000
END:STANDARD
BEGIN:DAYLIGHT
TZOFFSETFROM:-0800
TZOFFSETTO:-0700
TZNAME:PDT
DTSTART:20250309T100000
END:DAYLIGHT
BEGIN:STANDARD
TZOFFSETFROM:-0700
TZOFFSETTO:-0800
TZNAME:PST
DTSTART:20251102T090000
END:STANDARD
BEGIN:DAYLIGHT
TZOFFSETFROM:-0800
TZOFFSETTO:-0700
TZNAME:PDT
DTSTART:20260308T100000
END:DAYLIGHT
BEGIN:STANDARD
TZOFFSETFROM:-0700
TZOFFSETTO:-0800
TZNAME:PST
DTSTART:20261101T090000
END:STANDARD
END:VTIMEZONE
BEGIN:VTIMEZONE
TZID:UTC
BEGIN:STANDARD
TZOFFSETFROM:+0000
TZOFFSETTO:+0000
TZNAME:UTC
DTSTART:20240101T000000
END:STANDARD
END:VTIMEZONE
BEGIN:VEVENT
DTSTART;TZID=America/Los_Angeles:20251112T190000
DTEND;TZID=America/Los_Angeles:20251112T220000
DTSTAMP:20260421T062016
CREATED:20251011T010006Z
LAST-MODIFIED:20260211T172022Z
UID:10000999-1762974000-1762984800@theheadlinersclub.com
SUMMARY:Headliners Karaoke Wednesdays!
DESCRIPTION:Stop in\, grab the mic\, and take the stage! Join us each week to express your emotions through the majesty of song.\nFREE Admission! 21 & Over
URL:https://theheadlinersclub.com/event/headliners-karaoke-3-2-2/2025-11-12/
LOCATION:The Headliners Club\, 17880 SW McEwan Road\, Lake Oswego\, OR\, 97035
CATEGORIES:weekly
ATTACH;FMTTYPE=image/jpeg:https://theheadlinersclub.com/wp-content/uploads/2025/04/karaoke-alt-Cover.webp
END:VEVENT
BEGIN:VEVENT
DTSTART;TZID=America/Los_Angeles:20251113T190000
DTEND;TZID=America/Los_Angeles:20251113T210000
DTSTAMP:20260421T062016
CREATED:20250623T161232Z
LAST-MODIFIED:20251011T011922Z
UID:10000702-1763060400-1763067600@theheadlinersclub.com
SUMMARY:Cornhole Thursdays
DESCRIPTION:Our Thursday cornhole nights are open to the public! Each week\, a 4-game round robin tournament and single elimination bracket play. The last Thursday of the month\, winners receive The Headliners Club gift cards\, concert tickets and more! No need to bring a team; your teammate changes each round!\n\nCompete while enjoying some incredible cocktails and tasty food! www.theheadlinersclub.com/menu\nRegistration at the door (doors open at 4pm). Let the bags fly!
URL:https://theheadlinersclub.com/event/cornhole-league/2025-11-13/
LOCATION:The Headliners Club\, 17880 SW McEwan Road\, Lake Oswego\, OR\, 97035
CATEGORIES:weekly
ATTACH;FMTTYPE=image/jpeg:https://theheadlinersclub.com/wp-content/uploads/2025/06/thc-cornhole-Cover.webp
END:VEVENT
BEGIN:VEVENT
DTSTART;TZID=UTC:20251114T200000
DTEND;TZID=UTC:20251114T200000
DTSTAMP:20260421T062016
CREATED:20250903T155513Z
LAST-MODIFIED:20250927T164548Z
UID:10000973-1763150400-1763150400@theheadlinersclub.com
SUMMARY:An evening with Eagle Eyes [Eagles tribute]
DESCRIPTION:21 & OVER | $25 Advance / $30 Day Of Show | Eagle Eyes – Eagles tribute is ‘THE’ tribute to the legendary California country rock band. Audiences are mesmerized by this group of Vancouver\, B.C. musicians’ precise vocal harmonies & service to the smallest of details in performing songs spanning the extensive Eagles’ Rock N’ Roll Hall of Fame Career (including a few Joe Walsh selections). \n– – – – \nTICKETS\nReserved seating available
URL:https://theheadlinersclub.com/event/eagle-eyes-111425/
LOCATION:The Headliners Club\, 17880 SW McEwan Road\, Lake Oswego\, OR\, 97035
ATTACH;FMTTYPE=image/jpeg:https://theheadlinersclub.com/wp-content/uploads/2025/09/25-1114-HEADLINERS-eagle-eyes-FB-Cover.webp
END:VEVENT
BEGIN:VEVENT
DTSTART;TZID=UTC:20251115T200000
DTEND;TZID=UTC:20251115T200000
DTSTAMP:20260421T062016
CREATED:20250903T155909Z
LAST-MODIFIED:20250927T164652Z
UID:10000974-1763236800-1763236800@theheadlinersclub.com
SUMMARY:Nate Botsford
DESCRIPTION:21 & OVER | $15 Advance / $20 Day Of Show | Nate Botsford’s country rock hybrid style is a lifetime in the making. Nate began playing piano when he was only five\, but has developed a style that calls upon influence like Johnny Cash\, Bob Dylan\, Van Morrison\, and his big-band pianist grandfather. From coffeehouses to mainstages\, Nate has pleased audiences with his feel-good tunes and relatable lyrics while sharing the stage with the likes of Old Dominion\, Brett Young\, Chris Janson\, LoCash\, Lonestar and many others.\n \n– – – – \nTICKETS\nReserved seating available
URL:https://theheadlinersclub.com/event/nate-botsford-111525/
LOCATION:The Headliners Club\, 17880 SW McEwan Road\, Lake Oswego\, OR\, 97035
ATTACH;FMTTYPE=image/jpeg:https://theheadlinersclub.com/wp-content/uploads/2025/09/25-1115-HEADLINERS-nate-bots-FB-Cover.webp
END:VEVENT
END:VCALENDAR