BEGIN:VCALENDAR
VERSION:2.0
PRODID:-//The Headliners Club - ECPv6.15.20//NONSGML v1.0//EN
CALSCALE:GREGORIAN
METHOD:PUBLISH
X-ORIGINAL-URL:https://theheadlinersclub.com
X-WR-CALDESC:Events for The Headliners Club
REFRESH-INTERVAL;VALUE=DURATION:PT1H
X-Robots-Tag:noindex
X-PUBLISHED-TTL:PT1H
BEGIN:VTIMEZONE
TZID:America/Los_Angeles
BEGIN:DAYLIGHT
TZOFFSETFROM:-0800
TZOFFSETTO:-0700
TZNAME:PDT
DTSTART:20240310T100000
END:DAYLIGHT
BEGIN:STANDARD
TZOFFSETFROM:-0700
TZOFFSETTO:-0800
TZNAME:PST
DTSTART:20241103T090000
END:STANDARD
BEGIN:DAYLIGHT
TZOFFSETFROM:-0800
TZOFFSETTO:-0700
TZNAME:PDT
DTSTART:20250309T100000
END:DAYLIGHT
BEGIN:STANDARD
TZOFFSETFROM:-0700
TZOFFSETTO:-0800
TZNAME:PST
DTSTART:20251102T090000
END:STANDARD
BEGIN:DAYLIGHT
TZOFFSETFROM:-0800
TZOFFSETTO:-0700
TZNAME:PDT
DTSTART:20260308T100000
END:DAYLIGHT
BEGIN:STANDARD
TZOFFSETFROM:-0700
TZOFFSETTO:-0800
TZNAME:PST
DTSTART:20261101T090000
END:STANDARD
END:VTIMEZONE
BEGIN:VTIMEZONE
TZID:UTC
BEGIN:STANDARD
TZOFFSETFROM:+0000
TZOFFSETTO:+0000
TZNAME:UTC
DTSTART:20240101T000000
END:STANDARD
END:VTIMEZONE
BEGIN:VEVENT
DTSTART;TZID=America/Los_Angeles:20251126T190000
DTEND;TZID=America/Los_Angeles:20251126T220000
DTSTAMP:20260421T045818
CREATED:20251011T010006Z
LAST-MODIFIED:20260211T172022Z
UID:10001001-1764183600-1764194400@theheadlinersclub.com
SUMMARY:Headliners Karaoke Wednesdays!
DESCRIPTION:Stop in\, grab the mic\, and take the stage! Join us each week to express your emotions through the majesty of song.\nFREE Admission! 21 & Over
URL:https://theheadlinersclub.com/event/headliners-karaoke-3-2-2/2025-11-26/
LOCATION:The Headliners Club\, 17880 SW McEwan Road\, Lake Oswego\, OR\, 97035
CATEGORIES:weekly
ATTACH;FMTTYPE=image/jpeg:https://theheadlinersclub.com/wp-content/uploads/2025/04/karaoke-alt-Cover.webp
END:VEVENT
BEGIN:VEVENT
DTSTART;TZID=UTC:20251126T200000
DTEND;TZID=UTC:20251126T200000
DTSTAMP:20260421T045818
CREATED:20250919T203332Z
LAST-MODIFIED:20251108T193853Z
UID:10000981-1764187200-1764187200@theheadlinersclub.com
SUMMARY:Ants In The Kitchen's Holiday Kick-Off Bash!
DESCRIPTION:21 & Over | $15 Advance\, $20 Day of Show | The night before Thanksgiving is ALWAYS a great party night and AITK brings the funk! Ants In The Kitchen is a group of accomplished Portland\, Oregon musicians performing high-energy Rock\, Soul\, Blues\, and Funk covers…from Tina Turner to Beastie Boys to AC/DC to Bruno Mars! Come get down and do some pre-emptive turkey day calorie burning! \n– – – – – \nGET TICKETS\nReserved Seating Available
URL:https://theheadlinersclub.com/event/ants-in-the-kitchen-112625/
LOCATION:The Headliners Club\, 17880 SW McEwan Road\, Lake Oswego\, OR\, 97035
ATTACH;FMTTYPE=image/jpeg:https://theheadlinersclub.com/wp-content/uploads/2025/09/25-1126-HEADLINERS-aitk-FB-Cover.webp
END:VEVENT
BEGIN:VEVENT
DTSTART;TZID=America/Los_Angeles:20251127T190000
DTEND;TZID=America/Los_Angeles:20251127T210000
DTSTAMP:20260421T045818
CREATED:20250623T161232Z
LAST-MODIFIED:20251011T011922Z
UID:10000704-1764270000-1764277200@theheadlinersclub.com
SUMMARY:Cornhole Thursdays
DESCRIPTION:Our Thursday cornhole nights are open to the public! Each week\, a 4-game round robin tournament and single elimination bracket play. The last Thursday of the month\, winners receive The Headliners Club gift cards\, concert tickets and more! No need to bring a team; your teammate changes each round!\n\nCompete while enjoying some incredible cocktails and tasty food! www.theheadlinersclub.com/menu\nRegistration at the door (doors open at 4pm). Let the bags fly!
URL:https://theheadlinersclub.com/event/cornhole-league/2025-11-27/
LOCATION:The Headliners Club\, 17880 SW McEwan Road\, Lake Oswego\, OR\, 97035
CATEGORIES:weekly
ATTACH;FMTTYPE=image/jpeg:https://theheadlinersclub.com/wp-content/uploads/2025/06/thc-cornhole-Cover.webp
END:VEVENT
BEGIN:VEVENT
DTSTART;TZID=UTC:20251128T200000
DTEND;TZID=UTC:20251128T200000
DTSTAMP:20260421T045818
CREATED:20250927T163328Z
LAST-MODIFIED:20251001T052228Z
UID:10000991-1764360000-1764360000@theheadlinersclub.com
SUMMARY:BAM
DESCRIPTION:21 & Over | $15 Advance\, $20 Day of Show | BAM! is a high-energy band that fuses the biggest songs of the past six decades with powerhouse vocals and elite musicianship into one nonstop dance party. This band (featuring members of Band After Midnight) re-imagines mega-hits by ABBA\, Adele\, Amy Winehouse\, Blondie\, Bruno Mars\, Coldplay\, David Bowie\, Dua Lipa\, Fleetwood Mac\, Lady Gaga\, Lizzo\, Michael Jackson\, Queen\, Stevie Wonder\, Talking Heads\, and U2 — plus many more. Every set is designed to surprise\, excite\, and keep the dance floor moving. \n– – – – – \nGET TICKETS\nReserved Seating Available
URL:https://theheadlinersclub.com/event/bam-112825/
LOCATION:The Headliners Club\, 17880 SW McEwan Road\, Lake Oswego\, OR\, 97035
ATTACH;FMTTYPE=image/jpeg:https://theheadlinersclub.com/wp-content/uploads/2025/09/25-1128-HEADLINERS-bam-FB-Cover-1.webp
END:VEVENT
BEGIN:VEVENT
DTSTART;TZID=UTC:20251129T200000
DTEND;TZID=UTC:20251129T200000
DTSTAMP:20260421T045818
CREATED:20250903T162514Z
LAST-MODIFIED:20251013T231839Z
UID:10000977-1764446400-1764446400@theheadlinersclub.com
SUMMARY:Slicker + Dance Your Boots Off line dance lesson
DESCRIPTION:21 & Over | $15 Advance\, $20 Day of Show | Slicker is a 7-piece country rock band\, playing the best country hits while taking you on a musical tour through the decades and genres. Slicker delivers a rock concert-style performance\, and brings an energetic party vibe that gets people knocking chairs over to get to the dance floor. \nThis night of kick-your-heels-up country music begins with a FREE line dance lesson from the Dance Your Boots Off crew. \n– – – – – \nGET TICKETS\nReserved Seating Available
URL:https://theheadlinersclub.com/event/slicker-112925/
LOCATION:The Headliners Club\, 17880 SW McEwan Road\, Lake Oswego\, OR\, 97035
ATTACH;FMTTYPE=image/jpeg:https://theheadlinersclub.com/wp-content/uploads/2025/09/25-1129-HEADLINERS-slicker-FB-Cover.webp
END:VEVENT
END:VCALENDAR