BEGIN:VCALENDAR
VERSION:2.0
PRODID:-//The Headliners Club - ECPv6.15.20//NONSGML v1.0//EN
CALSCALE:GREGORIAN
METHOD:PUBLISH
X-WR-CALNAME:The Headliners Club
X-ORIGINAL-URL:https://theheadlinersclub.com
X-WR-CALDESC:Events for The Headliners Club
REFRESH-INTERVAL;VALUE=DURATION:PT1H
X-Robots-Tag:noindex
X-PUBLISHED-TTL:PT1H
BEGIN:VTIMEZONE
TZID:America/Los_Angeles
BEGIN:DAYLIGHT
TZOFFSETFROM:-0800
TZOFFSETTO:-0700
TZNAME:PDT
DTSTART:20240310T100000
END:DAYLIGHT
BEGIN:STANDARD
TZOFFSETFROM:-0700
TZOFFSETTO:-0800
TZNAME:PST
DTSTART:20241103T090000
END:STANDARD
BEGIN:DAYLIGHT
TZOFFSETFROM:-0800
TZOFFSETTO:-0700
TZNAME:PDT
DTSTART:20250309T100000
END:DAYLIGHT
BEGIN:STANDARD
TZOFFSETFROM:-0700
TZOFFSETTO:-0800
TZNAME:PST
DTSTART:20251102T090000
END:STANDARD
BEGIN:DAYLIGHT
TZOFFSETFROM:-0800
TZOFFSETTO:-0700
TZNAME:PDT
DTSTART:20260308T100000
END:DAYLIGHT
BEGIN:STANDARD
TZOFFSETFROM:-0700
TZOFFSETTO:-0800
TZNAME:PST
DTSTART:20261101T090000
END:STANDARD
END:VTIMEZONE
BEGIN:VTIMEZONE
TZID:UTC
BEGIN:STANDARD
TZOFFSETFROM:+0000
TZOFFSETTO:+0000
TZNAME:UTC
DTSTART:20240101T000000
END:STANDARD
END:VTIMEZONE
BEGIN:VEVENT
DTSTART;TZID=America/Los_Angeles:20251203T190000
DTEND;TZID=America/Los_Angeles:20251203T220000
DTSTAMP:20260419T021056
CREATED:20251011T010006Z
LAST-MODIFIED:20260211T172022Z
UID:10001002-1764788400-1764799200@theheadlinersclub.com
SUMMARY:Headliners Karaoke Wednesdays!
DESCRIPTION:Stop in\, grab the mic\, and take the stage! Join us each week to express your emotions through the majesty of song.\nFREE Admission! 21 & Over
URL:https://theheadlinersclub.com/event/headliners-karaoke-3-2-2/2025-12-03/
LOCATION:The Headliners Club\, 17880 SW McEwan Road\, Lake Oswego\, OR\, 97035
CATEGORIES:weekly
ATTACH;FMTTYPE=image/jpeg:https://theheadlinersclub.com/wp-content/uploads/2025/04/karaoke-alt-Cover.webp
END:VEVENT
BEGIN:VEVENT
DTSTART;TZID=America/Los_Angeles:20251204T190000
DTEND;TZID=America/Los_Angeles:20251204T210000
DTSTAMP:20260419T021056
CREATED:20250623T161232Z
LAST-MODIFIED:20251011T011922Z
UID:10000705-1764874800-1764882000@theheadlinersclub.com
SUMMARY:Cornhole Thursdays
DESCRIPTION:Our Thursday cornhole nights are open to the public! Each week\, a 4-game round robin tournament and single elimination bracket play. The last Thursday of the month\, winners receive The Headliners Club gift cards\, concert tickets and more! No need to bring a team; your teammate changes each round!\n\nCompete while enjoying some incredible cocktails and tasty food! www.theheadlinersclub.com/menu\nRegistration at the door (doors open at 4pm). Let the bags fly!
URL:https://theheadlinersclub.com/event/cornhole-league/2025-12-04/
LOCATION:The Headliners Club\, 17880 SW McEwan Road\, Lake Oswego\, OR\, 97035
CATEGORIES:weekly
ATTACH;FMTTYPE=image/jpeg:https://theheadlinersclub.com/wp-content/uploads/2025/06/thc-cornhole-Cover.webp
END:VEVENT
BEGIN:VEVENT
DTSTART;TZID=UTC:20251205T200000
DTEND;TZID=UTC:20251205T200000
DTSTAMP:20260419T021056
CREATED:20250920T235335Z
LAST-MODIFIED:20250927T165507Z
UID:10000982-1764964800-1764964800@theheadlinersclub.com
SUMMARY:Hit Machine
DESCRIPTION:21 & Over | $15 Advance/ $20 Day of Show | Hit Machine plays hits from all eras; it’s not uncommon to hear Stayin’ Alive (Bee Gees)\, Kiss (Prince)\, Dynamite (Taio Cruz)\, You Shook Me All Night Long (AC/DC) all in the same set. Fronted by the dynamic Bart Hafeman\, the energy projected from this group is WILD! – – – – \nGET TICKETS\nreserved seating available
URL:https://theheadlinersclub.com/event/hit-machine-120525/
LOCATION:The Headliners Club\, 17880 SW McEwan Road\, Lake Oswego\, OR\, 97035
ATTACH;FMTTYPE=image/jpeg:https://theheadlinersclub.com/wp-content/uploads/2025/09/25-1205-HEADLINERS-hit-machine-FB-Cover.webp
END:VEVENT
BEGIN:VEVENT
DTSTART;TZID=UTC:20251206T200000
DTEND;TZID=UTC:20251206T200000
DTSTAMP:20260419T021056
CREATED:20250921T000142Z
LAST-MODIFIED:20250927T165811Z
UID:10000983-1765051200-1765051200@theheadlinersclub.com
SUMMARY:Shoot To Thrill [AC⚡DC tribute] • Cheap Sunglasses [ZZ Top]
DESCRIPTION:21 & OVER | $20 Advance/$25 Day Of | Shoot To Thrill – AC/DC tribute is Portland’s “balls-to-the-wall” tribute to the Australian legends\, bringing the anthemic riffs\, shouts\, and antics to the stage with pure passion. Hail hail to the good times\, ‘cause rock has got the right of way when Shoot To Thrill grabs you by the short & curlies. \nCheap Sunglasses – ZZ Top tribute features some of the NW coolest cats playing those loco tunes from the pride of Texas. \n– – – \nGET TICKETS\nReserved Seating Available
URL:https://theheadlinersclub.com/event/shoot-to-thrill-120625/
LOCATION:The Headliners Club\, 17880 SW McEwan Road\, Lake Oswego\, OR\, 97035
ATTACH;FMTTYPE=image/jpeg:https://theheadlinersclub.com/wp-content/uploads/2025/09/25-1206-HEADLINERS-shoot-FB-Cover.webp
END:VEVENT
END:VCALENDAR