BEGIN:VCALENDAR
VERSION:2.0
PRODID:-//The Headliners Club - ECPv6.15.20//NONSGML v1.0//EN
CALSCALE:GREGORIAN
METHOD:PUBLISH
X-WR-CALNAME:The Headliners Club
X-ORIGINAL-URL:https://theheadlinersclub.com
X-WR-CALDESC:Events for The Headliners Club
REFRESH-INTERVAL;VALUE=DURATION:PT1H
X-Robots-Tag:noindex
X-PUBLISHED-TTL:PT1H
BEGIN:VTIMEZONE
TZID:America/Los_Angeles
BEGIN:DAYLIGHT
TZOFFSETFROM:-0800
TZOFFSETTO:-0700
TZNAME:PDT
DTSTART:20250309T100000
END:DAYLIGHT
BEGIN:STANDARD
TZOFFSETFROM:-0700
TZOFFSETTO:-0800
TZNAME:PST
DTSTART:20251102T090000
END:STANDARD
BEGIN:DAYLIGHT
TZOFFSETFROM:-0800
TZOFFSETTO:-0700
TZNAME:PDT
DTSTART:20260308T100000
END:DAYLIGHT
BEGIN:STANDARD
TZOFFSETFROM:-0700
TZOFFSETTO:-0800
TZNAME:PST
DTSTART:20261101T090000
END:STANDARD
BEGIN:DAYLIGHT
TZOFFSETFROM:-0800
TZOFFSETTO:-0700
TZNAME:PDT
DTSTART:20270314T100000
END:DAYLIGHT
BEGIN:STANDARD
TZOFFSETFROM:-0700
TZOFFSETTO:-0800
TZNAME:PST
DTSTART:20271107T090000
END:STANDARD
END:VTIMEZONE
BEGIN:VTIMEZONE
TZID:UTC
BEGIN:STANDARD
TZOFFSETFROM:+0000
TZOFFSETTO:+0000
TZNAME:UTC
DTSTART:20250101T000000
END:STANDARD
END:VTIMEZONE
BEGIN:VEVENT
DTSTART;TZID=America/Los_Angeles:20260624T180000
DTEND;TZID=America/Los_Angeles:20260624T220000
DTSTAMP:20260423T030656
CREATED:20260304T221105Z
LAST-MODIFIED:20260311T223016Z
UID:10001417-1782324000-1782338400@theheadlinersclub.com
SUMMARY:Headliners Karaoke Wednesdays!
DESCRIPTION:Every Wednesday night\, PDX Karaoke Junkies host KJ Karaoking gives you a chance step up to the mic and bring the house down. Let’s hear what you got (don’t forget to bring your own cheering section).\nFREE Admission! 21 & Over
URL:https://theheadlinersclub.com/event/headliners-karaoke-3-2-2-2-2/2026-06-24/
LOCATION:The Headliners Club\, 17880 SW McEwan Road\, Lake Oswego\, OR\, 97035
CATEGORIES:weekly
ATTACH;FMTTYPE=image/jpeg:https://theheadlinersclub.com/wp-content/uploads/2025/04/karaoke-alt-Cover.webp
END:VEVENT
BEGIN:VEVENT
DTSTART;TZID=America/Los_Angeles:20260625T190000
DTEND;TZID=America/Los_Angeles:20260625T210000
DTSTAMP:20260423T030656
CREATED:20250623T161232Z
LAST-MODIFIED:20251011T011922Z
UID:10000734-1782414000-1782421200@theheadlinersclub.com
SUMMARY:Cornhole Thursdays
DESCRIPTION:Our Thursday cornhole nights are open to the public! Each week\, a 4-game round robin tournament and single elimination bracket play. The last Thursday of the month\, winners receive The Headliners Club gift cards\, concert tickets and more! No need to bring a team; your teammate changes each round!\n\nCompete while enjoying some incredible cocktails and tasty food! www.theheadlinersclub.com/menu\nRegistration at the door (doors open at 4pm). Let the bags fly!
URL:https://theheadlinersclub.com/event/cornhole-league/2026-06-25/
LOCATION:The Headliners Club\, 17880 SW McEwan Road\, Lake Oswego\, OR\, 97035
CATEGORIES:weekly
ATTACH;FMTTYPE=image/jpeg:https://theheadlinersclub.com/wp-content/uploads/2025/06/thc-cornhole-Cover.webp
END:VEVENT
BEGIN:VEVENT
DTSTART;TZID=UTC:20260626T200000
DTEND;TZID=UTC:20260626T200000
DTSTAMP:20260423T030656
CREATED:20260422T014220Z
LAST-MODIFIED:20260422T014221Z
UID:10001676-1782504000-1782504000@theheadlinersclub.com
SUMMARY:Dance Machine
DESCRIPTION:21 & Over | $15 Advance/ $20 Day of Show | Dance Machine (Tay Conti\, JD Erickson\, Michael T. Conner\, Brian Foxworth\, Shawn Lewis\, Bart Hafeman) is an energetic band whose expansive repertoire covers a variety of dance and pop smash hits. \n – – – –\nGET TICKETS\n\nreserved seating available
URL:https://theheadlinersclub.com/event/dance-machine-062626/
LOCATION:The Headliners Club\, 17880 SW McEwan Road\, Lake Oswego\, OR\, 97035
ATTACH;FMTTYPE=image/jpeg:https://theheadlinersclub.com/wp-content/uploads/2026/04/26-0626-HEADLINERS-dance-machine-FB-Cover.webp
END:VEVENT
BEGIN:VEVENT
DTSTART;TZID=UTC:20260627T110000
DTEND;TZID=UTC:20260627T110000
DTSTAMP:20260423T030656
CREATED:20260422T014745Z
LAST-MODIFIED:20260422T014745Z
UID:10001677-1782558000-1782558000@theheadlinersclub.com
SUMMARY:Birds Of A Feather (kids show)
DESCRIPTION:21 & Over | $15 Advance/ $20 Day of Show | Birds of a Feather is an indie family super-duo featuring two standout figures in children’s music—Brooklyn-based pioneer Suzi Shelton and Chicago’s Filipina-American artist Little Miss Ann. Together\, Suzi and Ann are thrilled to bring their family-friendly show to The Headliners Club\, delivering a joyful summer concert filled with uplifting songs that invite audiences to clap\, sing\, and dance along. \nFor this performance\, they will be joined by Portland-based musician Jeff Kerestes\, founder and director of The Ukulele Project\, an initiative dedicated to helping people discover the joy of making and playing music.\n – – – –\nGET TICKETS\n\nreserved seating available
URL:https://theheadlinersclub.com/event/birds-of-a-feather-062726/
LOCATION:The Headliners Club\, 17880 SW McEwan Road\, Lake Oswego\, OR\, 97035
ATTACH;FMTTYPE=image/jpeg:https://theheadlinersclub.com/wp-content/uploads/2026/04/26-0627-HEADLINERS-birds-FB-Cover.webp
END:VEVENT
BEGIN:VEVENT
DTSTART;TZID=UTC:20260627T200000
DTEND;TZID=UTC:20260627T200000
DTSTAMP:20260423T030656
CREATED:20260422T015223Z
LAST-MODIFIED:20260422T015223Z
UID:10001678-1782590400-1782590400@theheadlinersclub.com
SUMMARY:Rock Shop's Headbanger's Ball / Harefest Kick-Off Party
DESCRIPTION:ROAD TO HAREFEST CONCERT! A pair of 3-day Harefest tickets will be given away before the last set. \n21 & Over | $20 Advance / $25 Day Of Show | ROCK SHOP – 80’S Hair Rock Tribute brings back the glorious stadium-rock of the 1980s with authentic outfits\, instruments\, hair & makeup. This band delivers a full-on party night\, which never fails to get the crowd rocking along! They’re warming up for Harefest\, where they’re the band that performs the finale party on July 18th. – – – –\nGET TICKETS\nReserved Seating Available
URL:https://theheadlinersclub.com/event/rock-shop-062726/
LOCATION:The Headliners Club\, 17880 SW McEwan Road\, Lake Oswego\, OR\, 97035
ATTACH;FMTTYPE=image/jpeg:https://theheadlinersclub.com/wp-content/uploads/2026/04/26-0627-HEADLINERS-rock-shop-FB-Cover.webp
END:VEVENT
END:VCALENDAR